BEGIN:VCALENDAR
VERSION:2.0
PRODID:-//Phoenicia New York in the Catskill Mountains - ECPv6.15.11//NONSGML v1.0//EN
CALSCALE:GREGORIAN
METHOD:PUBLISH
X-ORIGINAL-URL:https://phoeniciany.com
X-WR-CALDESC:Events for Phoenicia New York in the Catskill Mountains
REFRESH-INTERVAL;VALUE=DURATION:PT1H
X-Robots-Tag:noindex
X-PUBLISHED-TTL:PT1H
BEGIN:VTIMEZONE
TZID:America/New_York
BEGIN:DAYLIGHT
TZOFFSETFROM:-0500
TZOFFSETTO:-0400
TZNAME:EDT
DTSTART:20140309T070000
END:DAYLIGHT
BEGIN:STANDARD
TZOFFSETFROM:-0400
TZOFFSETTO:-0500
TZNAME:EST
DTSTART:20141102T060000
END:STANDARD
BEGIN:DAYLIGHT
TZOFFSETFROM:-0500
TZOFFSETTO:-0400
TZNAME:EDT
DTSTART:20150308T070000
END:DAYLIGHT
BEGIN:STANDARD
TZOFFSETFROM:-0400
TZOFFSETTO:-0500
TZNAME:EST
DTSTART:20151101T060000
END:STANDARD
BEGIN:DAYLIGHT
TZOFFSETFROM:-0500
TZOFFSETTO:-0400
TZNAME:EDT
DTSTART:20160313T070000
END:DAYLIGHT
BEGIN:STANDARD
TZOFFSETFROM:-0400
TZOFFSETTO:-0500
TZNAME:EST
DTSTART:20161106T060000
END:STANDARD
END:VTIMEZONE
BEGIN:VEVENT
DTSTART;TZID=America/New_York:20151010T100000
DTEND;TZID=America/New_York:20151010T170000
DTSTAMP:20260423T193100
CREATED:20150921T220555Z
LAST-MODIFIED:20150921T220833Z
UID:764-1444471200-1444496400@phoeniciany.com
SUMMARY:Tremper Mountain Uphill Battle Trail Run
DESCRIPTION:Join us on the test run of what we hope to make an organized race next year! This is a short but steep trail run up to the top of Tremper Mountain. It’s definitely a challenge but you’ll be rewarded with incredible views at the fire tower on the summit. The distance is around 3 miles and the elevation gain is about 2000 feet. The run is a steady climb most of the time\, but there are the occasional flat sections on switchbacks to provide some relief. To add a bit of competitive fun\, the first to the top will receive a $50 gift certificate to Storehouse…our outdoor gear shop in Phoenicia. We’re also going to make t-shirts to commemorate the event with the awesome logo designed by Steven Weinberg of Steven Weinberg Studio and the Spruceton Inn. Stay tuned for details on how to purchase one. We’re excited about making this event a yearly organized race and look forward to making that a reality through your participation! \nWe are asking for a $10 donation\, which will go toward the Catskill Fire Tower Project: a volunteer effort administered in part by the Catskill Center for Conservation and Development and in cooperation with the New York State Department of Environmental Conservation. \nThe trailhead is here: http://goo.gl/maps/6Wlx6
URL:https://phoeniciany.com/event/tremper-mountain-uphill-battle-trail-run/
LOCATION:Mount Tremper Trailhead\, Plank Road\, Phoenicia\, NY\, United States
CATEGORIES:Trail Run event
ATTACH;FMTTYPE=image/jpeg:https://www.phoeniciany.com/wp-content/uploads/2015/09/11904676_1662426090646773_8641854979359865403_n.jpg
END:VEVENT
END:VCALENDAR