BEGIN:VCALENDAR
VERSION:2.0
PRODID:-//Phoenicia New York in the Catskill Mountains - ECPv6.15.11//NONSGML v1.0//EN
CALSCALE:GREGORIAN
METHOD:PUBLISH
X-WR-CALNAME:Phoenicia New York in the Catskill Mountains
X-ORIGINAL-URL:https://phoeniciany.com
X-WR-CALDESC:Events for Phoenicia New York in the Catskill Mountains
REFRESH-INTERVAL;VALUE=DURATION:PT1H
X-Robots-Tag:noindex
X-PUBLISHED-TTL:PT1H
BEGIN:VTIMEZONE
TZID:America/New_York
BEGIN:DAYLIGHT
TZOFFSETFROM:-0500
TZOFFSETTO:-0400
TZNAME:EDT
DTSTART:20180311T070000
END:DAYLIGHT
BEGIN:STANDARD
TZOFFSETFROM:-0400
TZOFFSETTO:-0500
TZNAME:EST
DTSTART:20181104T060000
END:STANDARD
BEGIN:DAYLIGHT
TZOFFSETFROM:-0500
TZOFFSETTO:-0400
TZNAME:EDT
DTSTART:20190310T070000
END:DAYLIGHT
BEGIN:STANDARD
TZOFFSETFROM:-0400
TZOFFSETTO:-0500
TZNAME:EST
DTSTART:20191103T060000
END:STANDARD
BEGIN:DAYLIGHT
TZOFFSETFROM:-0500
TZOFFSETTO:-0400
TZNAME:EDT
DTSTART:20200308T070000
END:DAYLIGHT
BEGIN:STANDARD
TZOFFSETFROM:-0400
TZOFFSETTO:-0500
TZNAME:EST
DTSTART:20201101T060000
END:STANDARD
BEGIN:DAYLIGHT
TZOFFSETFROM:-0500
TZOFFSETTO:-0400
TZNAME:EDT
DTSTART:20210314T070000
END:DAYLIGHT
BEGIN:STANDARD
TZOFFSETFROM:-0400
TZOFFSETTO:-0500
TZNAME:EST
DTSTART:20211107T060000
END:STANDARD
BEGIN:DAYLIGHT
TZOFFSETFROM:-0500
TZOFFSETTO:-0400
TZNAME:EDT
DTSTART:20220313T070000
END:DAYLIGHT
BEGIN:STANDARD
TZOFFSETFROM:-0400
TZOFFSETTO:-0500
TZNAME:EST
DTSTART:20221106T060000
END:STANDARD
BEGIN:DAYLIGHT
TZOFFSETFROM:-0500
TZOFFSETTO:-0400
TZNAME:EDT
DTSTART:20230312T070000
END:DAYLIGHT
BEGIN:STANDARD
TZOFFSETFROM:-0400
TZOFFSETTO:-0500
TZNAME:EST
DTSTART:20231105T060000
END:STANDARD
BEGIN:DAYLIGHT
TZOFFSETFROM:-0500
TZOFFSETTO:-0400
TZNAME:EDT
DTSTART:20240310T070000
END:DAYLIGHT
BEGIN:STANDARD
TZOFFSETFROM:-0400
TZOFFSETTO:-0500
TZNAME:EST
DTSTART:20241103T060000
END:STANDARD
BEGIN:DAYLIGHT
TZOFFSETFROM:-0500
TZOFFSETTO:-0400
TZNAME:EDT
DTSTART:20250309T070000
END:DAYLIGHT
BEGIN:STANDARD
TZOFFSETFROM:-0400
TZOFFSETTO:-0500
TZNAME:EST
DTSTART:20251102T060000
END:STANDARD
BEGIN:DAYLIGHT
TZOFFSETFROM:-0500
TZOFFSETTO:-0400
TZNAME:EDT
DTSTART:20260308T070000
END:DAYLIGHT
BEGIN:STANDARD
TZOFFSETFROM:-0400
TZOFFSETTO:-0500
TZNAME:EST
DTSTART:20261101T060000
END:STANDARD
END:VTIMEZONE
BEGIN:VTIMEZONE
TZID:UTC
BEGIN:STANDARD
TZOFFSETFROM:+0000
TZOFFSETTO:+0000
TZNAME:UTC
DTSTART:20160101T000000
END:STANDARD
END:VTIMEZONE
BEGIN:VEVENT
DTSTART;TZID=America/New_York:20251214T140000
DTEND;TZID=America/New_York:20251214T170000
DTSTAMP:20260422T061344
CREATED:20251208T185719Z
LAST-MODIFIED:20251208T185738Z
UID:3807-1765720800-1765731600@phoeniciany.com
SUMMARY:Fully Committed\, A One Actor Play\, Dec 12-14
DESCRIPTION:Phoenicia Playhouse Presents \nFully Committed\nwritten by Becky Mode \nSHOW SYNOPSIS: \nAll Sam wants to do is get home for Christmas\, but he has to work. He’s a struggling actor\, who takes reservations for one of NYC’s hottest restaurants. He faces a constant stream of callers: socialites\, celebrities\, and desperate diners\, all clamoring for a table. And then\, of course\, there’s the dysfunctional restaurant staff and a chef who’s a first class narcissist. We get to meet them all\, and they are all played by the same actor with sharp wit and impeccable timing. \nStarring: Jake Shipley \nDirected by Michael Koegel \nSHOW DATES: \nFri. Dec 12th 2025\, 7:00 pm\nSat. Dec 13th 2025\, 2:00 pm\nSat. Dec 13th 2025\, 7:00 pm\nSun. Dec 14th 2025\, 2:00 pm
URL:https://phoeniciany.com/event/fully-committed-a-one-actor-play-dec-12-14/
LOCATION:Phoenicia Playhouse\, 10 Church Street\, Phoenicia\, NY\, 12464\, United States
CATEGORIES:Play
ATTACH;FMTTYPE=image/jpeg:https://www.phoeniciany.com/wp-content/uploads/2025/12/FullyCom_poster-Large.jpeg
END:VEVENT
BEGIN:VEVENT
DTSTART;TZID=America/New_York:20251024T190000
DTEND;TZID=America/New_York:20251109T140000
DTSTAMP:20260422T061344
CREATED:20250926T131547Z
LAST-MODIFIED:20251020T231335Z
UID:3774-1761332400-1762696800@phoeniciany.com
SUMMARY:Little Shop of Horrors - 3 Weekends
DESCRIPTION:Phoenicia Playhouse Presents\nLittle Shop of Horrors\nBOOK AND LYRICS BY: Howard Ashman \nMUSIC BY: Alan Menken \nBased on the film by Roger Corman / Screenplay by Charles Griffith\nOriginally produced by the WA Theatre\n(Kyle Renick\, Producing Director)\nOriginally produced at the Orpheum Theatre\, New York City by the WPA Theatre\, David Geffen\, Cameron Mackintosh and the Shubert Organization \n3 WEEKENDS!\nOct. 17\,18\,19*\nOct. 24.25.26*\nOct. 31\, Nov. 1\,2*\nFriday & Saturdays at 7pm\n*Sundays at 2pm \nRun Time: 120 minutes\nAge Range: All Ages \n\nPricing\nGeneral Admission (Musical) : $27.70 (incl. est. $2.70 in fees)\nSeniors\, Students\, Veterans (Musical) : $22.50 (incl. est. $2.50 in fees)
URL:https://phoeniciany.com/event/little-shop-of-horrors-3-weekends/
LOCATION:Phoenicia Playhouse\, 10 Church Street\, Phoenicia\, NY\, 12464\, United States
CATEGORIES:Comedy,Musical Play,Phoenicia Playhouse,Play
ATTACH;FMTTYPE=image/jpeg:https://www.phoeniciany.com/wp-content/uploads/2025/09/littleshop-poster_letter-size-scaled.jpg
END:VEVENT
BEGIN:VEVENT
DTSTART;VALUE=DATE:20220716
DTEND;VALUE=DATE:20220802
DTSTAMP:20260422T061344
CREATED:20220207T153654Z
LAST-MODIFIED:20220614T134730Z
UID:2893-1657969200-1659351599@phoeniciany.com
SUMMARY:A Midsummer Night's Dream
DESCRIPTION:A Midsummer Night’s Dream\nPresented by Catskill Mountain Shakespeare\nHosted By The Emerson Resort & Spa\nJuly 16-31\, 2022\nEvenings at 7:30pm/Matinees at 2pm\n\nTickets $30 Adults/$15 Students\nLow Cost and No Cost Tickets also available to anyone in need\, please email: tickets@catskillmountainshakespeare.com \n\n\nFor more info: http://catskillmountainshakespeare.com \nPlease note:\nPay What You Can Preview\, Friday July 15\nOpening Night Performance and After Party\, Saturday July 16\n‘Relaxed’ Performance with Childcare\, Saturday July 23 \nDates:\nPay What You Can Preview\, Friday July 15 at 7:30pm\nOpening Night & After Party\, Saturday July 16 at 7:30pm\nMatinee Performance\, Sunday July 17 at 2pm\nEvening Performance\, Thursday July 21 at 7:30pm\nEvening Performance\, Friday July 22 at 7:30pm\n‘Relaxed’ Matinee Performance (with Childcare)\, Saturday July 23 at 2pm\nEvening Performance\, Saturday July 23 at 7:30pm\nMatinee Performance\, Sunday July 24 at 2pm\nEvening Performance\, Thursday July 28 at 7:30pm\nMatinee Performance\, Saturday July 30 at 2pm\nEvening Performance\, Saturday July 30 at 7:30pm\nClosing\, Sunday July 31 at 2pm\n(*kindly note\, no performance on Friday 7/29)
URL:https://phoeniciany.com/event/a-midsummer-nights-dream/
LOCATION:The Emerson Resort & Spa\, Route 28\, Mount Tremper\, NY\, United States
CATEGORIES:performance,Play
ATTACH;FMTTYPE=image/jpeg:https://www.phoeniciany.com/wp-content/uploads/2022/02/IMG_0819-scaled.jpeg
END:VEVENT
BEGIN:VEVENT
DTSTART;TZID=America/New_York:20220312T200000
DTEND;TZID=America/New_York:20220320T140000
DTSTAMP:20260422T061344
CREATED:20220308T185501Z
LAST-MODIFIED:20220308T185501Z
UID:2948-1647115200-1647784800@phoeniciany.com
SUMMARY:Venus in Furs
DESCRIPTION:DAVID IVES’S VENUS IN FUR\nat the Phoenicia Playhouse\nSAT MARCH 12 and 19\, 8pm\nSUN MARCH 13 and 20\, 2pm \nPlot: Thomas\, a frustrated playwright/director\, is desperate to find an actress to play Vanda\, the female lead in his adaptation of the classic tale Venus in Fur. Into his empty audition room walks an enigmatic actress — oddly enough\, named Vanda. What follows is a test of wills in this mysterious\, funny\, fiery drama. \nCast: Caitlin Connelly\, Maclain Maier \nDirectors: Caitlin Connelly\, Tricia Anderson\, Taylor Seupel\, Maclain Maier \nTICKETS $20 AVAILABLE HERE \n*MASKS REQUIRED
URL:https://phoeniciany.com/event/venus-in-furs/
LOCATION:Phoenicia Playhouse\, 10 Church Street\, Phoenicia\, NY\, 12464\, United States
CATEGORIES:Phoenicia Playhouse,Play
ATTACH;FMTTYPE=image/jpeg:https://www.phoeniciany.com/wp-content/uploads/2022/03/venusinfur.jpg
END:VEVENT
BEGIN:VEVENT
DTSTART;TZID=America/New_York:20190508T163000
DTEND;TZID=America/New_York:20190508T190000
DTSTAMP:20260422T061344
CREATED:20190430T070941Z
LAST-MODIFIED:20190430T070941Z
UID:2339-1557333000-1557342000@phoeniciany.com
SUMMARY:Play Out Loud: Library Play Reading
DESCRIPTION:Play Out Loud: Library Play Reading Series \nWednesday\, 5/8 @ 4:30 pm – 7:00 pm \nPlays are delightful to read.  They are meant to be heard. Come to the library to read aloud and discover some old and some new plays. This is a reading group\, not a discussion group. (Of course there will be some discussion but that is not the main point!) If you are planning to come\, we would appreciate it if you would contact Carol Estey at 688-7811 or fstaff@phoenicialibrary.org\, however pre-registration is not required.
URL:https://phoeniciany.com/event/play-out-loud-library-play-reading/
LOCATION:Phoenicia Library
CATEGORIES:Library Event,performance,Play,Public Speaking
ATTACH;FMTTYPE=image/jpeg:https://www.phoeniciany.com/wp-content/uploads/2019/04/Play-Reading.jpg
END:VEVENT
BEGIN:VEVENT
DTSTART;TZID=UTC:20171013T200000
DTEND;TZID=UTC:20171029T200000
DTSTAMP:20260422T061344
CREATED:20171009T194142Z
LAST-MODIFIED:20171009T194947Z
UID:1735-1507924800-1509307200@phoeniciany.com
SUMMARY:NINE at Phoenicia Playhouse
DESCRIPTION:October 13\, 14\, 15\, 20\, 21\, 22\, 27\, 28 & 29\nFridays and Saturdays at 8pm. Sundays at 2pm.\nTickets are $20\, Seniors & Students $18. \nDirected by Victoria McCarthy \nTHE SEXY TONY AWARD-WINNING MUSICAL \nOne man\, many women. It’s perhaps the ultimate fantasy of many\, to be lavished with affection and sex by several women\, and it is also the lifestyle held by Guido\, the main character of Nine\, the 4-Tony winning musical (including Best Musical\, Best Direction of a Musical\, and Best Original Score). The sexy and thought provoking show is based on 8 1/2\, Federico Fellini’s semi-autobiographical masterwork about a charismatic\, yet needy film-maker in mid-life crisis\, surrounded by the many women in his life: his wife\, his mistress\, his muse\, his mother\, plus many more. As the sexy Guido juggles his love life and examines his life\, we learn more about him\, and maybe a little bit about ourselves. Imaginative staging and choreography and a beautiful score will help tell his story\, and provide an exciting evening of theater. \n“Nine” is presented by special arrangement with SAMUEL FRENCH\, INC. \nBook by Arthur Kopit\nMusic and Lyrics by Maury Yeston\nAdapted from the Italian by Mario Fratti\nBased on Fellini’s 8 1/2\nDirected by Victoria McCarthy\nOctober 13\, 14\, 15\, 20\, 21\, 22\, 27\, 28 & 29\nFridays and Saturdays at 8pm. Sundays at 2pm.\nTickets are $20\, Seniors & Students $18. \nPhoto Credit: C-Star Photography by Eaglepix \n\n\n\n				\n			\n				NINE at Phoenicia Playhouse\n				\n\n\n				\n			\n				NINE at Phoenicia Playhouse\n				\n\n\n				\n			\n				NINE at Phoenicia Playhouse
URL:https://phoeniciany.com/event/nine/
LOCATION:Phoenicia Playhouse\, 10 Church Street\, Phoenicia\, NY\, 12464\, United States
CATEGORIES:Play,STS Playhouse,Theater Event
ATTACH;FMTTYPE=image/jpeg:https://www.phoeniciany.com/wp-content/uploads/2017/10/FullSizeRender.jpg
END:VEVENT
BEGIN:VEVENT
DTSTART;TZID=UTC:20170721T200000
DTEND;TZID=UTC:20170721T220000
DTSTAMP:20260422T061344
CREATED:20170630T174255Z
LAST-MODIFIED:20170703T232118Z
UID:1647-1500667200-1500674400@phoeniciany.com
SUMMARY:The Wedding Singer 7/7 - 7/23
DESCRIPTION:July 7–July 23; Fri/Sat 8pm\, Sun 2pm\n$20/$18 Members\, Seniors\, and Students\nTickets: 845 688 2279\nor purchase tickets online at PhoeniciaPlayhouse.com \nDirected by Victoria McCarthy\nMusical Director–Lee Stowe\nChoreographer–Amber McCarthy \nBook by Chad Beguelin and Tim Herlihy\nMusic by MatthewSklar\nLyrics by ChadBeguelin \nBased upon the New Line Cinema film\nWritten by Tim Herlihy\nDirected by Victoria McCarthy\nMusical Director–Lee Stowe\nChoreographer–Amber McCarthy \nPhoenicia Playhouse\, 10 Church St.\, Phoenicia\, NY
URL:https://phoeniciany.com/event/the-wedding-singer-77-723/
LOCATION:Phoenicia Playhouse\, 10 Church Street\, Phoenicia\, NY\, 12464\, United States
CATEGORIES:Musical Play,Play
ATTACH;FMTTYPE=image/jpeg:https://www.phoeniciany.com/wp-content/uploads/2017/06/tws.jpg
END:VEVENT
BEGIN:VEVENT
DTSTART;TZID=UTC:20170527T183000
DTEND;TZID=UTC:20170527T220000
DTSTAMP:20260422T061344
CREATED:20170417T190959Z
LAST-MODIFIED:20170417T190959Z
UID:1586-1495909800-1495922400@phoeniciany.com
SUMMARY:Starry\, Starry Night
DESCRIPTION:Starry\, Starry Night\nAn exciting benefit evening of one act plays read by Broadway and Hollywood actors\, with a pre-party at the Phoenicia Diner\, auctions\, mixing and mingling with the actors and more!!!! The event will benefit STS Playhouse’s capitol campaign. \nSaturday\, May 27\nCocktail Hour at 6:30pm Phoenicia Diner\, 5681 State Route 28 Phoenicia\, NY\nPerformance at 8:30pm STS Playhouse\, 10 Church Street\nPhoenicia\, NY \nStarring:\nBoyd Gaines (Contact\, four-time Tony Award winner)\nJan Maxwell (Follies\, Drama Desk-award winner and five-time Tony Award nominee)\nGemma Clarke Sands (Damage)\nByron Jennings (Boardwalk Empire)\nRobert Emmet Lunney (Fox TVs The Exorcist)\nCarolyn McCormick (Drama Desk Award winner/star of Equus and Private Lives)\nKathleen McNenny (Law and Order)\,\nEllen Parker (Guiding Light) and\nStark Sands (Two-time Tony Award nominee for Kinky Boots and Journeys End. \nTickets include a pre-show cocktail hour at the Phoenicia Diner\, performance\, actors post-show Q&A\, silent auctions\, and premium auctions. Plus\, ticket holders also receive a 2017-2018 season membership to STS Playhouse\, including one ticket to each of the season’s four shows\, and two tickets to the May\, 2017 production of “Prelude to a Kiss” by Craig Lucas\, valued at $120. \nAdvance tickets strongly recommended\, this event will sell out!!! \nTickets available NOW at Tender Land Home\, 64 Main Street\, Phoenicia\,  The Phoenicia Diner\, 5681 St. Route 28\, Phoenicia\, The Peekamoose Restaurant\, 83773 St. Route 28\, Big Indian by phone at (845) 688-1369 or online at www.stsplayhouse.com \nFurther information is available at  http://www.stsplayhouse.com/ or at the STS Facebook page\, https://www.facebook.com/STSplayhouse
URL:https://phoeniciany.com/event/starry-starry-night/
LOCATION:STS Playhouse\, 10 Church Street 
CATEGORIES:Dinner Specials,Food Event,Play,STS Playhouse,Theater Event
ATTACH;FMTTYPE=image/jpeg:https://www.phoeniciany.com/wp-content/uploads/2017/04/starry-flyer-forweb.jpg
END:VEVENT
BEGIN:VEVENT
DTSTART;VALUE=DATE:20170505
DTEND;VALUE=DATE:20170522
DTSTAMP:20260422T061344
CREATED:20170417T190253Z
LAST-MODIFIED:20170417T190442Z
UID:1580-1493982000-1495411199@phoeniciany.com
SUMMARY:Prelude to a Kiss
DESCRIPTION:Prelude to a Kiss\nA romantic comedy with a metaphysical twist\nBy Craig Lucas\nDirected by Michael Koegel\nMay 5-21\nPerformances Fridays and Saturdays at 8pm\, Sundays at 2pm\nTickets $20 and $18 for students/seniors/members are available by phone (845) 688-2279 or online at www.stsplayhouse.com \nVolunteer actors and crew members always needed! New members and donors always grateful appreciated! \nFurther information is available at  http://www.stsplayhouse.com/ or at the STS Facebook page\, https://www.facebook.com/STSplayhouse
URL:https://phoeniciany.com/event/prelude-to-a-kiss/
LOCATION:STS Playhouse\, 10 Church Street 
CATEGORIES:Play,STS Playhouse,Theater Event
ATTACH;FMTTYPE=image/jpeg:https://www.phoeniciany.com/wp-content/uploads/2017/04/prelude-flyer-forsite.jpg
END:VEVENT
END:VCALENDAR