BEGIN:VCALENDAR
VERSION:2.0
PRODID:-//Phoenicia New York in the Catskill Mountains - ECPv6.15.11//NONSGML v1.0//EN
CALSCALE:GREGORIAN
METHOD:PUBLISH
X-ORIGINAL-URL:https://phoeniciany.com
X-WR-CALDESC:Events for Phoenicia New York in the Catskill Mountains
REFRESH-INTERVAL;VALUE=DURATION:PT1H
X-Robots-Tag:noindex
X-PUBLISHED-TTL:PT1H
BEGIN:VTIMEZONE
TZID:America/New_York
BEGIN:DAYLIGHT
TZOFFSETFROM:-0500
TZOFFSETTO:-0400
TZNAME:EDT
DTSTART:20200308T070000
END:DAYLIGHT
BEGIN:STANDARD
TZOFFSETFROM:-0400
TZOFFSETTO:-0500
TZNAME:EST
DTSTART:20201101T060000
END:STANDARD
BEGIN:DAYLIGHT
TZOFFSETFROM:-0500
TZOFFSETTO:-0400
TZNAME:EDT
DTSTART:20210314T070000
END:DAYLIGHT
BEGIN:STANDARD
TZOFFSETFROM:-0400
TZOFFSETTO:-0500
TZNAME:EST
DTSTART:20211107T060000
END:STANDARD
BEGIN:DAYLIGHT
TZOFFSETFROM:-0500
TZOFFSETTO:-0400
TZNAME:EDT
DTSTART:20220313T070000
END:DAYLIGHT
BEGIN:STANDARD
TZOFFSETFROM:-0400
TZOFFSETTO:-0500
TZNAME:EST
DTSTART:20221106T060000
END:STANDARD
BEGIN:DAYLIGHT
TZOFFSETFROM:-0500
TZOFFSETTO:-0400
TZNAME:EDT
DTSTART:20230312T070000
END:DAYLIGHT
BEGIN:STANDARD
TZOFFSETFROM:-0400
TZOFFSETTO:-0500
TZNAME:EST
DTSTART:20231105T060000
END:STANDARD
BEGIN:DAYLIGHT
TZOFFSETFROM:-0500
TZOFFSETTO:-0400
TZNAME:EDT
DTSTART:20240310T070000
END:DAYLIGHT
BEGIN:STANDARD
TZOFFSETFROM:-0400
TZOFFSETTO:-0500
TZNAME:EST
DTSTART:20241103T060000
END:STANDARD
END:VTIMEZONE
BEGIN:VEVENT
DTSTART;TZID=America/New_York:20231102T173000
DTEND;TZID=America/New_York:20231102T190000
DTSTAMP:20260422T072011
CREATED:20231018T143522Z
LAST-MODIFIED:20231018T143522Z
UID:3326-1698946200-1698951600@phoeniciany.com
SUMMARY:Plant & Sip
DESCRIPTION:Create your own one-of-a-kind Succulent Mini Garden\, all while sampling delicious craft drinks provided by Shandaken Inn’s Clubhouse Restaurant and Bar! Select from an array of plants\, and construct and decorate your garden. Get tips on how to look after your succulents and fabricate your terrarium.\n\nTickets include a complimentary beverage\, your choice of up to 4 plants\, decor & all other supplies needed to build your own terrarium.\n\nThe event will be held at Shandaken Inn | The Clubhouse Restaurant and Bar\nNov 2nd\, 5:30 pm – 7:00 pm\nADDRESS: 1 GOLF COURSE ROAD SHANDAKEN\, NY 12480\n\n***Please dress warm. Weather permitting the event will be held outside on the patio. There will be heaters and fire pits. At checkout\, please select the “Pick Up” option. Your name will be added to our guest list. All supplies will be provided at the time of the event.***
URL:https://phoeniciany.com/event/plant-sip/
LOCATION:Shandaken Inn\, 1 Golf Course Road East\, Shandaken\, NY\, 12480\, United States
CATEGORIES:DIY,Learning,Plant Sale
ATTACH;FMTTYPE=image/jpeg:https://www.phoeniciany.com/wp-content/uploads/2023/10/shand_1296x.jpeg
END:VEVENT
BEGIN:VEVENT
DTSTART;TZID=America/New_York:20210612T090000
DTEND;TZID=America/New_York:20210612T120000
DTSTAMP:20260422T072011
CREATED:20210427T133406Z
LAST-MODIFIED:20210512T123815Z
UID:2665-1623488400-1623499200@phoeniciany.com
SUMMARY:Phoenicia Library Plant Sale
DESCRIPTION:
URL:https://phoeniciany.com/event/phoenicia-library-plant-sale/
LOCATION:Phoenicia Library
CATEGORIES:Fundraiser,Library Event,local goods,Plant Sale
ATTACH;FMTTYPE=image/png:https://www.phoeniciany.com/wp-content/uploads/2021/04/Plant-Sale-2021.png
END:VEVENT
END:VCALENDAR