BEGIN:VCALENDAR
VERSION:2.0
PRODID:-//Phoenicia New York in the Catskill Mountains - ECPv6.15.11//NONSGML v1.0//EN
CALSCALE:GREGORIAN
METHOD:PUBLISH
X-ORIGINAL-URL:https://phoeniciany.com
X-WR-CALDESC:Events for Phoenicia New York in the Catskill Mountains
REFRESH-INTERVAL;VALUE=DURATION:PT1H
X-Robots-Tag:noindex
X-PUBLISHED-TTL:PT1H
BEGIN:VTIMEZONE
TZID:UTC
BEGIN:STANDARD
TZOFFSETFROM:+0000
TZOFFSETTO:+0000
TZNAME:UTC
DTSTART:20150101T000000
END:STANDARD
END:VTIMEZONE
BEGIN:VEVENT
DTSTART;TZID=UTC:20170902T190000
DTEND;TZID=UTC:20170903T193000
DTSTAMP:20260422T114214
CREATED:20170822T193315Z
LAST-MODIFIED:20170822T193315Z
UID:1724-1504378800-1504467000@phoeniciany.com
SUMMARY:Tom Pacheco Live - 2 Nights
DESCRIPTION:Woodstock legend Tom Pacheco will play two nights at the Empire State Railway Museum. \nHis songs have been covered by Jefferson Starship\, the Band\, Rick Danko\, Richie Havens\, Scott Petito and Leslie Ritter\, John Hall and dozens of European artists\, many becoming number one hits in England and Norway. His albums have sold well in Europe. One became platinum in the mid 90’s. He played folk rock in Greenwich Village\, NY in the lat 60’s and alternative country in Austin Texas in the early 80’s. He walked out on the Nashville songwriting factories and spent 10 years in Dublin Ireland recording and touring extensively in Europe. He now lives in Woodstock\, NY and tours both America and Europe. He is admired by critics\, fellow performers and perceptive music lovers who have bought the imported copies of many of his albums. Andy Hardin\, Tom Russell’s long time guitarist\, called him “the best solo performer he’s ever seen.” \nDoors @ 7:00pm | Show at 7:30 sharp\nSeptember 2 & 3\nTix $18 at the door or $15 with RSVP to flyingcatmusic@gmail.com
URL:https://phoeniciany.com/event/tom-pacheco-live-2-nights/
LOCATION:Empire State Railway Museum\, 70 High St\, Phoenicia\, NY\, 12464\, United States
CATEGORIES:Concert,Music,Music performance,Phoenicia Music Series
ATTACH;FMTTYPE=image/jpeg:https://www.phoeniciany.com/wp-content/uploads/2017/08/TP-Poster-LD.jpg
END:VEVENT
BEGIN:VEVENT
DTSTART;TZID=UTC:20170812T190000
DTEND;TZID=UTC:20170812T220000
DTSTAMP:20260422T114214
CREATED:20170803T112632Z
LAST-MODIFIED:20170803T112903Z
UID:1705-1502564400-1502575200@phoeniciany.com
SUMMARY:Spuyten Duyvil in Concert
DESCRIPTION:Spuyten Duyvil is to standard folk music what a monsoon is to rain. Rich Warren\, host of The Midnight Special on WFMT says that seeing a Spuyten Duyvil show for the first time is like “throwing a cherry bomb into a lake”. \nNo Depression Magazine calls Spuyten Duyvil “infused in blues and smoked with folk”. The New York Times offers up a two word summation of their sound; “Raucous Roots”. \nDescribed as a “mighty powerhouse” by The Huffington Post\, they exude the energy needed to hold down the stage at storied gatherings like The Philadelphia Folk Festival\, where they are repeat performers\, and also closer to home at the Clearwater and Falcon Ridge Folk Festivals. \nSpuyten Duyvil’s most recent album; The Social Music Hour Vol. 1 was nominated for The Intentional Folk Music Awards Album Of The Year in 2016\, and has received extensive air play and uniformly positive reviews. \nThe Empire State Railway Museum is located at 70 Lower High Street in Phoenicia\, New York. Tickets are $17 at the door or $15 with an advance RSVP. Show time is 7:30 p.m. and the doors open at 7:00 p.m. This is an intimate venue with seating for approximately 50 guests. \nSeats can be reserved by emailing us at flyingcatmusic@gmail.com or by calling Flying Cat Music at 845-688-9453. RSVPs must be received by 5:00 p.m. on the day of the show in order to confirm seat availability. Advance seats can only be guaranteed until 7:20 p.m.\, so please arrive early to claim them. \nWebsite for Spuyten Duyvil \nLive Video of Spuyten Duyvil playing “Daniel”
URL:https://phoeniciany.com/event/spuyten-duyvil-in-concert/
LOCATION:Catskill Mountain Railroad\, 5408 Route 28\, Mt. Tremper\, 12457\, United States
CATEGORIES:Music,Music performance,Phoenicia Music Series
ATTACH;FMTTYPE=image/jpeg:https://www.phoeniciany.com/wp-content/uploads/2017/08/Spuyten-Poster-LD.jpg
END:VEVENT
BEGIN:VEVENT
DTSTART;TZID=UTC:20170623T190000
DTEND;TZID=UTC:20170623T210000
DTSTAMP:20260422T114214
CREATED:20170614T194713Z
LAST-MODIFIED:20170614T194713Z
UID:1634-1498244400-1498251600@phoeniciany.com
SUMMARY:Idlewheel in Concert
DESCRIPTION:Fri June 23\, 2017 – 7:30 PM\nIdlewheel\nfeaturing Craig Bickhardt & Jack Sundrud \nDoors @ 7:00 | Show @ 7:30\n$20 or $17 with RSVP to flyingcatmusic@gmail.com \nEmpire State Railway Museam\n70 High St\nPhoenicia\, NY 12464 United States
URL:https://phoeniciany.com/event/idlewheel-in-concert/
LOCATION:Empire State Railway Museum\, 70 High St\, Phoenicia\, NY\, 12464\, United States
CATEGORIES:Music,Music performance,Phoenicia Music Series
ATTACH;FMTTYPE=image/jpeg:https://www.phoeniciany.com/wp-content/uploads/2017/06/Idle-Poster-LD.jpg
END:VEVENT
BEGIN:VEVENT
DTSTART;TZID=UTC:20170603T190000
DTEND;TZID=UTC:20170603T220000
DTSTAMP:20260422T114214
CREATED:20170523T214656Z
LAST-MODIFIED:20170523T215049Z
UID:1612-1496516400-1496527200@phoeniciany.com
SUMMARY:Peter Mulvey In Concert
DESCRIPTION:Flying Cat Music Presents \nPeter Mulvey In Concert \nSaturday\, June 3\, 2017 \nDoors @ 7:00 | Show @ 7:30 \n$20 or $17 with RSVP to flyingcatmusic@gmail.com \nhttp://www.petermulvey.com/ \nEmpire State Railway Museam\n70 High St\nPhoenicia\, NY 12464 United States
URL:https://phoeniciany.com/event/peter-mulvey-in-concert/
LOCATION:Empire State Railway Museum\, 70 High St\, Phoenicia\, NY\, 12464\, United States
CATEGORIES:Concert,Music,Music performance,Phoenicia Music Series
ATTACH;FMTTYPE=image/jpeg:https://www.phoeniciany.com/wp-content/uploads/2017/05/PM-Poster-LD.jpg
END:VEVENT
BEGIN:VEVENT
DTSTART;TZID=UTC:20170506T190000
DTEND;TZID=UTC:20170506T210000
DTSTAMP:20260422T114214
CREATED:20170426T115430Z
LAST-MODIFIED:20170426T120149Z
UID:1589-1494097200-1494104400@phoeniciany.com
SUMMARY:Mary Gauthier in Concert
DESCRIPTION:Saturday May 6\, 2017 – 7pm\nMary Gauthier has become one of Americana music’s most admired artists—across the U.S. and in her regular tours around the world.” – The Wall Street Journal \n“…her razor-sharp eye for detail and her commitment to unsentimental self-reflection puts her in a class with greats such as Kris Kristofferson\, John Prine and yes\, Bob Dylan.” – The Los Angeles Times \nWhat do Alabama Shakes\, Mumford & Sons\, and Mary Gauthier have in common? They are all prior winners of the Americana Music Association’s New/Emerging Artist of the Year award. Mary took home that award in 2005. \nThe Associated Press calls Mary Gauthier one of the best songwriters of her generation. Drag Queens in Limousines\, off of Gauthier’s second CD of the same name\, won best Folk/Singer-Songwriter Song at the first Annual Independent Music Awards in 1999. Her third album\, 2002’s Filth and Fire\, was named #1 Best Independent CD of the year by Jon Pareles of the New York Times.  Her 2005 release\, Mercy Now\, was named in the top five records of the decade by No Depression magazine. \nHer most recent release\, Trouble And Love\, was included in  Rolling Stone’s feature “The 26 Albums of 2014 You Probably Didn’t But Really Should Hear\, where they said of it: \n “Every tune is a rough gem of melody\, misery and economy\, as Gauthier excavates romantic wreckage like an archaeologist telling the story of a fossilized love.” \nMary Gauthier put it well when she once said\, “There’s no such thing as going too deep.” \nThe Empire State Railway Museum is located at 70 Lower High Street in Phoenicia\, New York. Tickets are $23  at the door or $20 with an advance RSVP. Show time is 7:30 p.m. and the doors open at 7:00 p.m. This is an intimate venue with seating for approximately 50 guests. \nSeats can be reserved by emailing us at flyingcatmusic@gmail.com or by calling Flying Cat Music at 845-688-9453. RSVPs must be received by 5:00 p.m. on the day of the show in order to confirm seat availability. Advance seats can only be guaranteed until 7:20 p.m.\, so please arrive early to claim them.
URL:https://phoeniciany.com/event/mary-gauthier-in-concert/
LOCATION:Empire State Railway Museum\, 70 High St\, Phoenicia\, NY\, 12464\, United States
CATEGORIES:Concert,Music,Music performance,Phoenicia Music Series
ATTACH;FMTTYPE=image/jpeg:https://www.phoeniciany.com/wp-content/uploads/2017/04/MG-Poster-LD.jpg
END:VEVENT
BEGIN:VEVENT
DTSTART;TZID=UTC:20161210T190000
DTEND;TZID=UTC:20161210T220000
DTSTAMP:20260422T114214
CREATED:20161129T033503Z
LAST-MODIFIED:20161129T033503Z
UID:1431-1481396400-1481407200@phoeniciany.com
SUMMARY:James Keelaghan in Concert
DESCRIPTION:Flying Cat Music Presents \nJames Keelaghan in Concert\nSaturday\, December 10\, 2016\n7:30 p.m. (sharp)\, Doors at 7:00\n\nEmpire State Railway Museum\n70 Lower High Street\, Phoenicia\, NY\n\nAdmission is $20 or $18 w/RSVP\nto flyingcatmusic@gmail.com\nFor information email as above\nor call 845-688-9453
URL:https://phoeniciany.com/event/james-keelaghan-in-concert/
LOCATION:Empire State Railway Museum\, 70 High St\, Phoenicia\, NY\, 12464\, United States
CATEGORIES:Concert,Music performance,Phoenicia Music Series
ATTACH;FMTTYPE=image/jpeg:https://www.phoeniciany.com/wp-content/uploads/2016/11/JK-Poster-LD.jpg
END:VEVENT
BEGIN:VEVENT
DTSTART;TZID=UTC:20160407T200000
DTEND;TZID=UTC:20160407T220000
DTSTAMP:20260422T114214
CREATED:20160326T185210Z
LAST-MODIFIED:20160326T185210Z
UID:997-1460059200-1460066400@phoeniciany.com
SUMMARY:Phoenicia Jazz Series: Pamela Pentony­
DESCRIPTION:Pamela Pentony­ – Pamela’s exquisite voice will be accompanied by Pete Levin (keyboards) and Jim Curtin (bass). \nAdvance tickets are available and recommended for reserved seating. See our new web site for information – www.phoeiciamusicseries.org \nThe Phoenicia Music Series has  jazz concerts (The Phoenicia Jazz Series) on the 1st\, 3rd\, and 5th Thursdays of each month and singer-songwriter concerts on the 2nd and 4th Thursdays of each month.
URL:https://phoeniciany.com/event/phoenicia-jazz-series-pamela-pentony%c2%ad/
LOCATION:Arts Upstairs\, 60 Main Street\, Phoenicia\, NY\, 12464\, United States
CATEGORIES:Phoenicia Music Series
END:VEVENT
BEGIN:VEVENT
DTSTART;TZID=UTC:20160331T200000
DTEND;TZID=UTC:20160331T220000
DTSTAMP:20260422T114214
CREATED:20160326T184948Z
LAST-MODIFIED:20160326T184948Z
UID:995-1459454400-1459461600@phoeniciany.com
SUMMARY:Phoenicia Jazz Series- Spirited
DESCRIPTION:Spirited – Joan Henry (vocals and percussion)\, Gus Mancini (sax)\, Dennis Yerry (keyboards)\, Ruperto Ifil (drums)\, Rich Syracuse (bass) & Tom DePetris (guitar) – Come celebrate their new CD! \nAdvance tickets are available and recommended for reserved seating.\nSee our new web site for information – www.phoeiciamusicseries.org \nFor tickets: https://www.eventbrite.com/e/spirited-opens-the-2016-season-of-the-phoenicia-jazz-series-tickets-23493962073 \nThe Phoenicia Music Series has  jazz concerts (The Phoenicia Jazz Series) on the 1st\, 3rd\, and 5th Thursdays of each month and singer-songwriter concerts on the 2nd and 4th Thursdays of each month. \n  \n 
URL:https://phoeniciany.com/event/phoenicia-jazz-series-spirited/
LOCATION:Arts Upstairs\, 60 Main Street\, Phoenicia\, NY\, 12464\, United States
CATEGORIES:Phoenicia Music Series
END:VEVENT
END:VCALENDAR