BEGIN:VCALENDAR
VERSION:2.0
PRODID:-//Phoenicia New York in the Catskill Mountains - ECPv6.15.11//NONSGML v1.0//EN
CALSCALE:GREGORIAN
METHOD:PUBLISH
X-WR-CALNAME:Phoenicia New York in the Catskill Mountains
X-ORIGINAL-URL:https://phoeniciany.com
X-WR-CALDESC:Events for Phoenicia New York in the Catskill Mountains
REFRESH-INTERVAL;VALUE=DURATION:PT1H
X-Robots-Tag:noindex
X-PUBLISHED-TTL:PT1H
BEGIN:VTIMEZONE
TZID:America/New_York
BEGIN:DAYLIGHT
TZOFFSETFROM:-0500
TZOFFSETTO:-0400
TZNAME:EDT
DTSTART:20140309T070000
END:DAYLIGHT
BEGIN:STANDARD
TZOFFSETFROM:-0400
TZOFFSETTO:-0500
TZNAME:EST
DTSTART:20141102T060000
END:STANDARD
BEGIN:DAYLIGHT
TZOFFSETFROM:-0500
TZOFFSETTO:-0400
TZNAME:EDT
DTSTART:20150308T070000
END:DAYLIGHT
BEGIN:STANDARD
TZOFFSETFROM:-0400
TZOFFSETTO:-0500
TZNAME:EST
DTSTART:20151101T060000
END:STANDARD
BEGIN:DAYLIGHT
TZOFFSETFROM:-0500
TZOFFSETTO:-0400
TZNAME:EDT
DTSTART:20160313T070000
END:DAYLIGHT
BEGIN:STANDARD
TZOFFSETFROM:-0400
TZOFFSETTO:-0500
TZNAME:EST
DTSTART:20161106T060000
END:STANDARD
END:VTIMEZONE
BEGIN:VEVENT
DTSTART;TZID=America/New_York:20151010T180000
DTEND;TZID=America/New_York:20151010T200000
DTSTAMP:20260423T193120
CREATED:20150921T220033Z
LAST-MODIFIED:20150921T220033Z
UID:762-1444500000-1444507200@phoeniciany.com
SUMMARY:Old Time Camp Fire at CIC
DESCRIPTION:Join us on Saturday evening\, October 10th at the Maurice D. Hinchey Catskill Interpretive Center for an old-time Campfire. This will be fun for the whole family event from 6 PM until 8 PM. (Rain date: Saturday\, October 17th). \nThere will be sing-along songs\, silly skits\, s’mores\, hot apple cider and more! \nThis is a fund-raiser event for the Catskill Interpretive – Entrance price is $15 per person and $35 for a family. Your additional generous contributions help support the ongoing operations of the Catskill Interpretive Center. \nIf you would like to lead a song\, a cheer or do a silly skit please contact Michael Drillinger at mdrillinger@catskillcenter.org
URL:https://phoeniciany.com/event/old-time-camp-fire-at-cic/
LOCATION:Catskills Visitor Center\, Route 28\, Mount Tremper\, NY\, 12457\, United States
CATEGORIES:Old Time Camp Fire fund-raiser
END:VEVENT
END:VCALENDAR