BEGIN:VCALENDAR
VERSION:2.0
PRODID:-//Phoenicia New York in the Catskill Mountains - ECPv6.15.11//NONSGML v1.0//EN
CALSCALE:GREGORIAN
METHOD:PUBLISH
X-WR-CALNAME:Phoenicia New York in the Catskill Mountains
X-ORIGINAL-URL:https://phoeniciany.com
X-WR-CALDESC:Events for Phoenicia New York in the Catskill Mountains
REFRESH-INTERVAL;VALUE=DURATION:PT1H
X-Robots-Tag:noindex
X-PUBLISHED-TTL:PT1H
BEGIN:VTIMEZONE
TZID:America/New_York
BEGIN:DAYLIGHT
TZOFFSETFROM:-0500
TZOFFSETTO:-0400
TZNAME:EDT
DTSTART:20140309T070000
END:DAYLIGHT
BEGIN:STANDARD
TZOFFSETFROM:-0400
TZOFFSETTO:-0500
TZNAME:EST
DTSTART:20141102T060000
END:STANDARD
BEGIN:DAYLIGHT
TZOFFSETFROM:-0500
TZOFFSETTO:-0400
TZNAME:EDT
DTSTART:20150308T070000
END:DAYLIGHT
BEGIN:STANDARD
TZOFFSETFROM:-0400
TZOFFSETTO:-0500
TZNAME:EST
DTSTART:20151101T060000
END:STANDARD
BEGIN:DAYLIGHT
TZOFFSETFROM:-0500
TZOFFSETTO:-0400
TZNAME:EDT
DTSTART:20160313T070000
END:DAYLIGHT
BEGIN:STANDARD
TZOFFSETFROM:-0400
TZOFFSETTO:-0500
TZNAME:EST
DTSTART:20161106T060000
END:STANDARD
END:VTIMEZONE
BEGIN:VEVENT
DTSTART;TZID=America/New_York:20150924T200000
DTEND;TZID=America/New_York:20150924T220000
DTSTAMP:20260423T130522
CREATED:20150921T222549Z
LAST-MODIFIED:20150921T222549Z
UID:768-1443124800-1443132000@phoeniciany.com
SUMMARY:The Phoenicia Jazz Series
DESCRIPTION:Join us at The Phoenicia Jazz Series this Thursday for an audience favorite – the Tom DePetris Quartet. Look for Tom DePetris and The Phoenicia Jazz Series on YouTube to get a taste of the music. Please “LIKE” The Phoenicia Jazz Series Page to get updates on events. There are going to be a few special evenings coming up!
URL:https://phoeniciany.com/event/the-phoenicia-jazz-series/
LOCATION:Arts Upstairs\, 60 Main Street\, Phoenicia\, NY\, 12464\, United States
CATEGORIES:Music performance
END:VEVENT
BEGIN:VEVENT
DTSTART;TZID=America/New_York:20150916T190000
DTEND;TZID=America/New_York:20150916T210000
DTSTAMP:20260423T130522
CREATED:20150912T163351Z
LAST-MODIFIED:20150912T163351Z
UID:760-1442430000-1442437200@phoeniciany.com
SUMMARY:CALAN in Concert for  Flying Cat Music
DESCRIPTION:Wednesday\, September 16\n7:30 p.m. (sharp)\, doors at 7:00 \n\nEmpire State Railway Museum\n70 Lower High Street\, Phoenicia\, NY 12464 \nAdmission price $15 or $13 with\nreservation to flyingcatmusic@gmail.com \nFor information email as above\nor call 845-688-9453\nLink to artist’s website\nhttp://www.calan-band.com/
URL:https://phoeniciany.com/event/calan-in-concert-for-flying-cat-music/
LOCATION:NY
CATEGORIES:Music performance
END:VEVENT
BEGIN:VEVENT
DTSTART;TZID=America/New_York:20150905T190000
DTEND;TZID=America/New_York:20150906T190000
DTSTAMP:20260423T130522
CREATED:20150901T170256Z
LAST-MODIFIED:20150901T170701Z
UID:756-1441479600-1441566000@phoeniciany.com
SUMMARY:Tom Pacheco in concert
DESCRIPTION:The Empire State Railway Museum is located at 70 Lower High Street in Phoenicia\, New York. Tickets are $18 at the door or $15 with an advance RSVP. Show time is 7:30 p.m. and the doors open at 7:00 p.m. This is an intimate venue with seating for approximately 50 guests. \nSeats can be reserved by emailing us at flyingcatmusic@gmail.com or by calling Flying Cat Music at 845-688-9453. RSVPs must be received by 5:00 p.m.on the day of the show in order to confirm seat availability. Advance seats can only be guaranteed until 7:20 p.m. so please arrive early to claim them. \nTom Pacheco Website
URL:https://phoeniciany.com/event/tom-pacheco-in-concert/
LOCATION:NY
CATEGORIES:Music performance
END:VEVENT
BEGIN:VEVENT
DTSTART;TZID=America/New_York:20150806T200000
DTEND;TZID=America/New_York:20150806T220000
DTSTAMP:20260423T130522
CREATED:20150803T235514Z
LAST-MODIFIED:20150804T000229Z
UID:728-1438891200-1438898400@phoeniciany.com
SUMMARY:Teri Roiger and John Menegon play The Phoenicia Jazz Series
DESCRIPTION:Thursday\, August 6 at 8:00pm\n\n\n\n\n\n\n\n\n\n\n\nThe Arts Upstairs in Phoenicia\, New York
URL:https://phoeniciany.com/event/teri-roiger-and-john-menegon-play-the-phoenicia-jazz-series/
LOCATION:Arts Upstairs\, 60 Main Street\, Phoenicia\, NY\, 12464\, United States
CATEGORIES:Music performance
ATTACH;FMTTYPE=image/jpeg:https://www.phoeniciany.com/wp-content/uploads/2015/08/11822575_1136271166388020_8119761263136038899_n.jpg
END:VEVENT
BEGIN:VEVENT
DTSTART;TZID=America/New_York:20150620T190000
DTEND;TZID=America/New_York:20150620T213000
DTSTAMP:20260423T130522
CREATED:20150614T170014Z
LAST-MODIFIED:20150614T170014Z
UID:671-1434826800-1434835800@phoeniciany.com
SUMMARY:Davey O in concert
DESCRIPTION:
URL:https://phoeniciany.com/event/davey-o-in-concert/
LOCATION:NY
CATEGORIES:Music performance
END:VEVENT
BEGIN:VEVENT
DTSTART;TZID=America/New_York:20150612T190000
DTEND;TZID=America/New_York:20150612T220000
DTSTAMP:20260423T130522
CREATED:20150612T191503Z
LAST-MODIFIED:20150612T192132Z
UID:665-1434135600-1434146400@phoeniciany.com
SUMMARY:The Spillway Band at the Catamount
DESCRIPTION:The Spillway Band plays an eclectic mix of rock\, country\, oldies\, R n’ B\, blues & originals. The band is made up of Jon Coghill on guitar and vocals\, singing drummer\, Bob Schnitzer\, and Randy Hudler on bass and vocals. Each member brings their unique talent to the group creating a fresh sound\, even to songs you’ve heard before and their diverse song list will keep you dancing all night. For more information contact us at (845) 688-2444 or visit our website   www.emersonresort.com \n  \n 
URL:https://phoeniciany.com/event/the-spillway-band-at-the-catamount/
LOCATION:The Catamount\, 5340 Rt. 28\, Mt Tremper\, NY \, NY\, 12457\, United States
CATEGORIES:Music performance
END:VEVENT
BEGIN:VEVENT
DTSTART;TZID=America/New_York:20150604T193000
DTEND;TZID=America/New_York:20150604T213000
DTSTAMP:20260423T130522
CREATED:20150604T191343Z
LAST-MODIFIED:20150604T191343Z
UID:648-1433446200-1433453400@phoeniciany.com
SUMMARY:Phoenicia Jazz Series
DESCRIPTION:On Thursday\, June 4\, 2015\, drummer Tani Tabbal will perform a special solo concert\, ‘Talking Trap Drums’\, at the Arts Upstairs in Phoenicia for a performance that promises to be a very rich listening experience. Tickets are $6; doors open at 7:30 pm and the concert begins at 8:00 pm. \n\n\n\n\n\n\n\nTonight’s show is going to be a rare treat – a great talent doing what he loves to do in an intimate listening environment. It doesn’t get much better than that. Come join us at The Phoenicia Jazz Series – and like the page to get updates on events and concerts. See you all tonight!
URL:https://phoeniciany.com/event/phoenicia-jazz-series/
LOCATION:Arts Upstairs\, 60 Main Street\, Phoenicia\, NY\, 12464\, United States
CATEGORIES:Music performance
END:VEVENT
END:VCALENDAR