BEGIN:VCALENDAR
VERSION:2.0
PRODID:-//Phoenicia New York in the Catskill Mountains - ECPv6.15.11//NONSGML v1.0//EN
CALSCALE:GREGORIAN
METHOD:PUBLISH
X-WR-CALNAME:Phoenicia New York in the Catskill Mountains
X-ORIGINAL-URL:https://phoeniciany.com
X-WR-CALDESC:Events for Phoenicia New York in the Catskill Mountains
REFRESH-INTERVAL;VALUE=DURATION:PT1H
X-Robots-Tag:noindex
X-PUBLISHED-TTL:PT1H
BEGIN:VTIMEZONE
TZID:UTC
BEGIN:STANDARD
TZOFFSETFROM:+0000
TZOFFSETTO:+0000
TZNAME:UTC
DTSTART:20150101T000000
END:STANDARD
END:VTIMEZONE
BEGIN:VTIMEZONE
TZID:America/New_York
BEGIN:DAYLIGHT
TZOFFSETFROM:-0500
TZOFFSETTO:-0400
TZNAME:EDT
DTSTART:20140309T070000
END:DAYLIGHT
BEGIN:STANDARD
TZOFFSETFROM:-0400
TZOFFSETTO:-0500
TZNAME:EST
DTSTART:20141102T060000
END:STANDARD
BEGIN:DAYLIGHT
TZOFFSETFROM:-0500
TZOFFSETTO:-0400
TZNAME:EDT
DTSTART:20150308T070000
END:DAYLIGHT
BEGIN:STANDARD
TZOFFSETFROM:-0400
TZOFFSETTO:-0500
TZNAME:EST
DTSTART:20151101T060000
END:STANDARD
BEGIN:DAYLIGHT
TZOFFSETFROM:-0500
TZOFFSETTO:-0400
TZNAME:EDT
DTSTART:20160313T070000
END:DAYLIGHT
BEGIN:STANDARD
TZOFFSETFROM:-0400
TZOFFSETTO:-0500
TZNAME:EST
DTSTART:20161106T060000
END:STANDARD
END:VTIMEZONE
BEGIN:VEVENT
DTSTART;TZID=UTC:20161203T170000
DTEND;TZID=UTC:20161203T220000
DTSTAMP:20260423T101206
CREATED:20161103T223938Z
LAST-MODIFIED:20161127T181307Z
UID:1344-1480784400-1480802400@phoeniciany.com
SUMMARY:Miracle on Main - Phoenicia Holiday Tree Lighting & Celebration
DESCRIPTION:MF Whitney Hose Co. Presents \nMiracle on Main Street\nSaturday\, December 3rd @ 5:00pm \nTree Lighting Ceremony\n5pm @ The Ice Cream Station – 76 Main Street\nSanta’s arrival on the fire truck\nPerformances  by: Chris Maxwell\, Nadou Louis & surprise guests!\nTree topper by artist Christina Varga\nChristmas carolers | Hot cocoa \nFire House Party\n6pm @ MF Whitney Fire House – Rte. 214\nFree snacks & drinks from local businesses\nPictures on Santa’s lap\nSTS performs scene from Miracle on 34th Street\nFace painting | Christmas craft table\nOrnaments from: High school Art Club\,\nPhoenicia Elementary & Woodland Playhouse \nShops Open Late\nMelange\, Twig\, Tender Land Home\, and\nNest Egg + 20% off @ Mystery Spot \nLIGHT THE TREE!\n$2 raffle\nWin a chance for your child (12 and under)\nto light the Christmas Tree with Santa.\n100% of raffle ticket sales go to\nMF WHITNEY HOSE COMPANY\n(Phoenicia’s all Volunteer Fire Department) \nRaffle Tix Available @\nTender Land Home\nPhoenicia Diner\nThe Nest Egg\nMélange \nSponsors:\nUlster SavingsMigliorelli Farms\nAmy’s Take Away & Catering\nThe Nest Egg\nPhoenicia Business Association
URL:https://phoeniciany.com/event/miracle-on-main-phoenicia-holiday-tree-lighting-celebration/
LOCATION:Phoenicia Main Street\, 58 Main Street\, Phoenicia\, NY\, 12464\, United States
CATEGORIES:Children's Event,Community Dinner,Concert,Food Event,Fundraiser,Holiday Fair,Music performance,Party,Tree Lighting
ATTACH;FMTTYPE=image/jpeg:https://www.phoeniciany.com/wp-content/uploads/2016/11/miracle-banner-vert-1.jpg
END:VEVENT
BEGIN:VEVENT
DTSTART;TZID=UTC:20161118T190000
DTEND;TZID=UTC:20161118T210000
DTSTAMP:20260423T101206
CREATED:20161111T144100Z
LAST-MODIFIED:20161111T144100Z
UID:1386-1479495600-1479502800@phoeniciany.com
SUMMARY:Garnet Rogers in Concert
DESCRIPTION:Flying Cat Music Presents\nGarnet Rogers in Concert \nFriday\, November 18\, 2016\n7:30 p.m. (sharp)\, Doors at 7:00 \nEmpire State Railway Museum\n70 Lower High Street\, Phoenicia\, NY \nAdmission is $20 or $18 w/RSVP\nto flyingcatmusic@gmail.com \nFor information email as above\nor call 845-688-9453 \nThis show highlights Garnet’s new memoir\, “Night Drive: Travels with My Brother” a darkly funny account of life on the road with his brother (legendary late folksinger Stan Rogers).
URL:https://phoeniciany.com/event/garnet-rogers-in-concert/
LOCATION:Empire State Railway Museum\, 70 High St\, Phoenicia\, NY\, 12464\, United States
CATEGORIES:Concert,Music performance
ATTACH;FMTTYPE=image/jpeg:https://www.phoeniciany.com/wp-content/uploads/2016/11/GR-Poster-LD.jpg
END:VEVENT
BEGIN:VEVENT
DTSTART;TZID=UTC:20161108T190000
DTEND;TZID=UTC:20161108T220000
DTSTAMP:20260423T101206
CREATED:20161103T222916Z
LAST-MODIFIED:20161103T222942Z
UID:1330-1478631600-1478642400@phoeniciany.com
SUMMARY:Open Mic Nite
DESCRIPTION:Open Mic Nite\nHosted by Ben Rounds \nOpen Mic Nite at Woodnotes Grille makes Tuesday night the new Friday night for great entertainment. Listen to talented local singers and bands or showcase your own talents! – No cover. \nFor more information\, contact us at (845) 688-2828 or \nwww.emersonresort.com
URL:https://phoeniciany.com/event/open-mic-nite/
LOCATION:The Emerson Resort & Spa\, Route 28\, Mount Tremper\, NY\, United States
CATEGORIES:Music performance
END:VEVENT
BEGIN:VEVENT
DTSTART;TZID=UTC:20161105T193000
DTEND;TZID=UTC:20161105T213000
DTSTAMP:20260423T101206
CREATED:20161026T181406Z
LAST-MODIFIED:20161026T183433Z
UID:1314-1478374200-1478381400@phoeniciany.com
SUMMARY:Bobtown in Concert
DESCRIPTION:Flying Cat Music Presents\nBobtown in Concert \nSaturday\, November 5\, 2016\n7:30 p.m. (sharp)\, Doors at 7:00\n\nEmpire State Railway Museum\n70 Lower High Street\, Phoenicia\, NY\n\nAdmission is $15 or $13 w/RSVP\nto flyingcatmusic@gmail.com\n\nFor information email as above\nor call 845-688-9453
URL:https://phoeniciany.com/event/bobtown-in-concert/
LOCATION:Empire State Railway Museum\, 70 High St\, Phoenicia\, NY\, 12464\, United States
CATEGORIES:Music performance
ATTACH;FMTTYPE=image/jpeg:https://www.phoeniciany.com/wp-content/uploads/2016/10/Poster-LD.jpg
END:VEVENT
BEGIN:VEVENT
DTSTART;TZID=UTC:20160904T190000
DTEND;TZID=UTC:20160904T220000
DTSTAMP:20260423T101206
CREATED:20160830T002540Z
LAST-MODIFIED:20160830T002540Z
UID:1255-1473015600-1473026400@phoeniciany.com
SUMMARY:TOM PACHECO IN CONCERT
DESCRIPTION:
URL:https://phoeniciany.com/event/tom-pacheco-in-concert-3/
LOCATION:NY
CATEGORIES:Music performance
ORGANIZER;CN="Flying Cat Music":MAILTO:FlyingCatMusic@gmail.com
END:VEVENT
BEGIN:VEVENT
DTSTART;TZID=UTC:20160903T190000
DTEND;TZID=UTC:20160903T220000
DTSTAMP:20260423T101206
CREATED:20160830T002348Z
LAST-MODIFIED:20160830T002348Z
UID:1248-1472929200-1472940000@phoeniciany.com
SUMMARY:TOM PACHECO IN CONCERT
DESCRIPTION:
URL:https://phoeniciany.com/event/tom-pacheco-in-concert-2/
LOCATION:NY
CATEGORIES:Music performance
ORGANIZER;CN="Flying Cat Music":MAILTO:FlyingCatMusic@gmail.com
END:VEVENT
BEGIN:VEVENT
DTSTART;TZID=UTC:20160806T103000
DTEND;TZID=UTC:20160806T123000
DTSTAMP:20260423T101206
CREATED:20160718T213752Z
LAST-MODIFIED:20160718T213752Z
UID:1193-1470479400-1470486600@phoeniciany.com
SUMMARY:Ukulele Lesson & Jam
DESCRIPTION:Saturday\, 8/6\, 10:30am – 12:30pm: Ukulele Lesson & Jam with Kathleen.  \nAll ages\, levels. Last month\, we had six brand new players\, including a mother and daughter and a married couple. So don’t be shy! We have ukes to borrow so that you can hone your skills\, as well as books and handouts. And if you’re a seasoned pro\, come and jam! \n 
URL:https://phoeniciany.com/event/ukulele-lesson-jam/
LOCATION:NY
CATEGORIES:Library Event,Music performance,Workshop
ORGANIZER;CN="Phoenicia Library":MAILTO:phoenicialibrary@gmail.com
END:VEVENT
BEGIN:VEVENT
DTSTART;TZID=UTC:20160729T190000
DTEND;TZID=UTC:20160729T220000
DTSTAMP:20260423T101206
CREATED:20160720T233135Z
LAST-MODIFIED:20160720T233135Z
UID:1205-1469818800-1469829600@phoeniciany.com
SUMMARY:Sloan Wainwright in Concert
DESCRIPTION:
URL:https://phoeniciany.com/event/sloan-wainwright-in-concert/
LOCATION:NY
CATEGORIES:Music performance
ORGANIZER;CN="Flying Cat Music":MAILTO:FlyingCatMusic@gmail.com
END:VEVENT
BEGIN:VEVENT
DTSTART;TZID=UTC:20160713T190000
DTEND;TZID=UTC:20160713T220000
DTSTAMP:20260423T101206
CREATED:20160702T181512Z
LAST-MODIFIED:20160702T181512Z
UID:1164-1468436400-1468447200@phoeniciany.com
SUMMARY:Flying Cat Studio Presents: Les Poules a Colin in Concert
DESCRIPTION:
URL:https://phoeniciany.com/event/flying-cat-studio-presents-les-poules-a-colin-in-concert/
LOCATION:NY
CATEGORIES:Music performance
ORGANIZER;CN="Flying Cat Music":MAILTO:FlyingCatMusic@gmail.com
END:VEVENT
BEGIN:VEVENT
DTSTART;TZID=UTC:20160625T193000
DTEND;TZID=UTC:20160625T220000
DTSTAMP:20260423T101206
CREATED:20160616T175228Z
LAST-MODIFIED:20160616T175228Z
UID:1135-1466883000-1466892000@phoeniciany.com
SUMMARY:Nathan Bell in Concert
DESCRIPTION:
URL:https://phoeniciany.com/event/nathan-bell-in-concert/
LOCATION:NY
CATEGORIES:Music performance
ORGANIZER;CN="Flying Cat Music":MAILTO:FlyingCatMusic@gmail.com
END:VEVENT
BEGIN:VEVENT
DTSTART;TZID=UTC:20160603T193000
DTEND;TZID=UTC:20160603T220000
DTSTAMP:20260423T101206
CREATED:20160526T192502Z
LAST-MODIFIED:20160526T192502Z
UID:1101-1464982200-1464991200@phoeniciany.com
SUMMARY:Flying Cat Music Presents: The Young Novelists in Concert
DESCRIPTION:
URL:https://phoeniciany.com/event/flying-cat-music-presents-the-young-novelists-in-concert-2/
LOCATION:NY
CATEGORIES:Music performance
ORGANIZER;CN="Flying Cat Music":MAILTO:FlyingCatMusic@gmail.com
END:VEVENT
BEGIN:VEVENT
DTSTART;TZID=UTC:20160603T190000
DTEND;TZID=UTC:20160603T220000
DTSTAMP:20260423T101206
CREATED:20160524T000713Z
LAST-MODIFIED:20160524T000713Z
UID:1089-1464980400-1464991200@phoeniciany.com
SUMMARY:Flying Cat Music Presents: The Young Novelists in Concert
DESCRIPTION:The Young Novelists perform for Flying Cat Music on June 3 at the Empire State Railway Museum. \nSonicbids said of them: “This Canadian folk-roots duo is known for their deft songwriting\, beautiful harmonies\, and poignant ballads.” \n\nDate: June 3\, 2016\nTime: 7:30 p.m. (Doors at 7:00)\nPrice(s): $15 door/$12 with RSVP\nVenue: Empire: Empire State Railway Museum\n\n70 Lower High Street\, Phoenicia\, NY 12464\n\n\nPhone number: 845-688-9453 (for info or to RSVP)\nEmail address: flyingcatmusic@gmail.com (for info or to RSVP)\n\nFor more information about this concert\, the venue\, and future concerts is available at www.flyingcatmusic.com \n 
URL:https://phoeniciany.com/event/flying-cat-music-presents-the-young-novelists-in-concert/
LOCATION:NY
CATEGORIES:Music performance
ORGANIZER;CN="Flying Cat Music":MAILTO:FlyingCatMusic@gmail.com
END:VEVENT
BEGIN:VEVENT
DTSTART;TZID=UTC:20160514T190000
DTEND;TZID=UTC:20160514T220000
DTSTAMP:20260423T101206
CREATED:20160509T201510Z
LAST-MODIFIED:20160509T201510Z
UID:1070-1463252400-1463263200@phoeniciany.com
SUMMARY:Dave Gunning In Concert
DESCRIPTION:
URL:https://phoeniciany.com/event/dave-gunning-in-concert/
LOCATION:NY
CATEGORIES:Music performance
ORGANIZER;CN="Flying Cat Music":MAILTO:FlyingCatMusic@gmail.com
END:VEVENT
BEGIN:VEVENT
DTSTART;TZID=UTC:20160506T190000
DTEND;TZID=UTC:20160506T210000
DTSTAMP:20260423T101206
CREATED:20160503T210850Z
LAST-MODIFIED:20160503T210850Z
UID:1041-1462561200-1462568400@phoeniciany.com
SUMMARY:Phoenicia Library Presents: Cabin Fever Music - The Cupcakes.
DESCRIPTION:Cabin Fever Music: The Cupcakes. Sweet sounds will be coming from Phoenicia as The Cupcakes play at the Library. Come see this trio of fabulously talented women play acoustic\, Americana and folk/traditional music.  \nFriday\, 5/6 @ 7:00 pm:  \nFree\, all welcome. \n 
URL:https://phoeniciany.com/event/phoenicia-library-presents-cabin-fever-music-the-cupcakes/
LOCATION:NY
CATEGORIES:Library Event,Music performance
ORGANIZER;CN="Phoenicia Library":MAILTO:phoenicialibrary@gmail.com
END:VEVENT
BEGIN:VEVENT
DTSTART;TZID=UTC:20160415T190000
DTEND;TZID=UTC:20160415T210000
DTSTAMP:20260423T101206
CREATED:20160326T205803Z
LAST-MODIFIED:20160326T205803Z
UID:1011-1460746800-1460754000@phoeniciany.com
SUMMARY:Phoenicia Library Presents: Cabin Fever Music: The John Burroughs Memorial Locust & Wild Honey Mountain Orchestra
DESCRIPTION:Friday\, 4/15 @ 7:00pm: Cabin Fever Music: The John Burroughs Memorial Locust & Wild Honey Mountain Orchestra.  The second concert in our Cabin Fever Music series. Inspired by the life and writings of 19th century Catskills naturalist John Burroughs\, the orchestra features some of the Catskills’ top musicians on dobro\, banjo\, guitar and fiddle (everybody sings). Come on out for some woodsy tunes celebrating our gorgeous home! \n  \nFor more information and to learn about other upcoming events\, please visit our website: http://phoenicialibrary.org/ \n 
URL:https://phoeniciany.com/event/phoenicia-library-presents-cabin-fever-music-the-john-burroughs-memorial-locust-wild-honey-mountain-orchestra/
LOCATION:NY
CATEGORIES:Library Event,Music performance
ORGANIZER;CN="Phoenicia Library":MAILTO:phoenicialibrary@gmail.com
END:VEVENT
BEGIN:VEVENT
DTSTART;TZID=UTC:20160409T193000
DTEND;TZID=UTC:20160409T193000
DTSTAMP:20260423T101206
CREATED:20160404T202511Z
LAST-MODIFIED:20160404T202511Z
UID:1019-1460230200-1460230200@phoeniciany.com
SUMMARY:Flying Cat Music Presents Abbie Gardner in Concert
DESCRIPTION:Abbie Gardner\, a founding member of the now on hiatus Americana trio Red Molly\, will perform for Flying Cat Music on April 9 at the Empire State Railway Museum. \n  \nTime: 7:30 p.m. (doors open at 7:00) \nPrice(s): $15 door/$12 With RSVP \n  \nFor more information or to RSVP Contact Flying Cat Music: \n#: 845-688-9453 \nE: flyingcatmusic@gmail.com \n  \n 
URL:https://phoeniciany.com/event/flying-cat-music-presents-abbie-gardner-in-concert/
LOCATION:NY
CATEGORIES:Music performance
ORGANIZER;CN="Flying Cat Music":MAILTO:FlyingCatMusic@gmail.com
END:VEVENT
BEGIN:VEVENT
DTSTART;TZID=UTC:20160309T190000
DTEND;TZID=UTC:20160309T220000
DTSTAMP:20260423T101206
CREATED:20160229T231350Z
LAST-MODIFIED:20160305T231206Z
UID:945-1457550000-1457560800@phoeniciany.com
SUMMARY:Dennis Stroughmatt et l’Esprit Creole in Concert for Flying Cat Music
DESCRIPTION:This will be a unique musical experience embracing the traditional French Creole sounds of the Ozark foothills. \nTime: 7:30 pm\, doors at 7:00 \nPrice(s): $16/$14 w/RSVP \n  \n 
URL:https://phoeniciany.com/event/dennis-stroughmatt-et-lesprit-creole-in-concert-for-flying-cat-music/
LOCATION:NY
CATEGORIES:Music performance
ORGANIZER;CN="Flying Cat Music":MAILTO:FlyingCatMusic@gmail.com
END:VEVENT
BEGIN:VEVENT
DTSTART;TZID=America/New_York:20151205T200000
DTEND;TZID=America/New_York:20151205T220000
DTSTAMP:20260423T101206
CREATED:20151129T195212Z
LAST-MODIFIED:20151130T215205Z
UID:831-1449345600-1449352800@phoeniciany.com
SUMMARY:The Longest Winter - performed by Liam Robinson & Jean Rohe
DESCRIPTION:Flying Cat Music presents:\n Liam Robinson and Jean Rohe performing The Longest Winter: A Christmas Concert and Singalong at the Empire State Railway Museum in Phoenicia.\n\nExpect songs you may not know including haunting melodies of old Europe and modern takes on the strange and ancient Christmas tale.\n\nThe doors open at 7:30 p.m. with the program beginning at 8:00 sharp.\n\nAdmission is $15 or $13 with RSVP to flyingcatmusic@gmail.com. Reservations are recommended.\n\nFor information email or call 845-688-9453.\n\n\n\n\n\n 
URL:https://phoeniciany.com/event/the-longest-winter-performed-by-liam-robinson-jean-rohe/
LOCATION:NY
CATEGORIES:Music performance
ORGANIZER;CN="Flying Cat Music":MAILTO:FlyingCatMusic@gmail.com
END:VEVENT
BEGIN:VEVENT
DTSTART;TZID=America/New_York:20151121T193000
DTEND;TZID=America/New_York:20151121T220000
DTSTAMP:20260423T101206
CREATED:20151119T193332Z
LAST-MODIFIED:20151119T193332Z
UID:809-1448134200-1448143200@phoeniciany.com
SUMMARY:Flying Cat Music presents band Jeff Scroggins & Colorado in concert
DESCRIPTION:On Saturday\, November 21\, Flying Cat Music presents the explosive five-piece bluegrass band Jeff Scroggins & Colorado in concert at the Empire State Railway Museum in Phoenicia.The door opens at 7:00 p.m. with the program beginning at 7:30 sharp. Admission is $18 or $15 with RSVP to flyingcatmusic@gmail.com. Reservations are recommended. For information call 845-688-9453. \n 
URL:https://phoeniciany.com/event/flying-cat-music-presents-band-jeff-scroggins-colorado-in-concert/
LOCATION:Empire State Railway Museum\, 70 High St\, Phoenicia\, NY\, 12464\, United States
CATEGORIES:Music performance
ORGANIZER;CN="Flying Cat Music":MAILTO:FlyingCatMusic@gmail.com
END:VEVENT
BEGIN:VEVENT
DTSTART;TZID=America/New_York:20151004T190000
DTEND;TZID=America/New_York:20151004T210000
DTSTAMP:20260423T101206
CREATED:20150930T214933Z
LAST-MODIFIED:20150930T214933Z
UID:771-1443985200-1443992400@phoeniciany.com
SUMMARY:Archie Fisher and Garnet Rogers in Concert for Flying Cat Music
DESCRIPTION:Sunday\, October 4\n\n7:30 p.m. (sharp)\, doors at 7:00 \n\nEmpire State Railway Museum\n\n70 Lower High Street\, Phoenicia\, NY  12464 \n\nAdmission price $25 or $22 with\nreservation to flyingcatmusic@gmail.com \n\n\nFor information email as above\nor call 845-688-9453\n  \nLink to artists’ websites\nArchie Fisher and Garnet Rogers\nOn Sunday\, October 4\, Flying Cat Music presents folk legends Archie Fisher and Garnet Rogers in concert at the Empire State Railway Museum located at 70 Lower High Street in Phoenicia. The doors open at 7:00 p.m. with the show beginning at 7:30 prompt. Admission is $25 or $22 with RSVP toflyingcatmusic@gmail.com or by calling 845-688-9453. Reservations are strongly encouraged. \nThis will be a special evening reuniting two old friends\, Scottish songwriter\, folksinger\, and guitarist Archie Fisher and Canadian songwriter\, folksinger\, and instrumentalist Garnet Rogers–sharing the stage and featured billing. Both of these men are venerated folk legends at home\, but their appeal knows no borders as evidenced by the strong following each has here in the United States also. \nAt the age of 18\, Garnet Rogers was already on the road as a full-time working musician with his brother Stan. Together they formed what has come to be accepted as one of the most influential duos in the history of North American folk music. Garnet acted as producer and arranger for his older brother from 1973 to 1983\, when Stan died tragically in a plane crash. Since then\, Garnet has established himself as a formidable solo artist. Garnet Rogers was a featured main stage artist at this year’s Falcon Ridge Folk Festival and has been hailed by the Boston Globe as “…a brilliant songwriter. One of the major talents of our time” and as “a charismatic performer and singer.” While Sing Out calls Garnet Rogers\, “The greatest interpreter and vocalist performing in the contemporary folk scene.” Garnet Rogers has been a showcased performer on numerous television and radio programs including Much Music\, Mountain Stage\, and All Things Considered. Throughout it all Garnet remains resolutely independent\, turning down offers from major labels to ensure that he continues doing music his own way. \n  \nArchie Fisher is an original inductee into the Scottish Traditional Music Hall of Fame\, the former host of a weekly Scottish BBC music show for 27 years\, and a recipient of the MBE–a prestigious honor nominated by his peers and bestowed by Queen Elizabeth. As a guitarist\, Archie–along with Martin Carthy and Davey Graham–was among the earliest steel-string players in British folk music\, devising a mix of new tunings and inventive picking that has influenced generations of successors. Fisher wanted to make the guitar more compatible with the sound of Scottish music\, and is widely regarded as the first to use open tunings to simulate the droning notes of bagpipes. “When I started doing it\, I thought it was cheating\,’’ he said. “I didn’t even know it had a name.” Archie is himself an extremely gifted songwriter. Though he has not been as prolific as some of his peers\, the songs he pens tend quickly to be embraced as classics of their genre. The St. Paul Pioneer Press notes of him\, “Fisher’s quietly poetic ballads…haunt like a shadowy specter.” \n  \nWhen Garnet Rogers and Archie Fisher share a stage\, a warm glow is cast on a unique musical friendship\, one with deep and strong roots. Two of Archie Fisher’s compositions\, Witch of the Westmerlands and Dark Eyed Molly\, were the only songs recorded by Garnet’s brother Stan during his illustrious brief career\, that Stan Rogers had not written himself. In the summer of 1985\, Garnet Rogers and Archie Fisher teamed up to tour Canada and America. That tour was a huge success and concert tracks from it are featured on the only album Archie Fisher and Garnet Rogers have released together to date\, 1986’s highly acclaimed Off the Map. The friends performed together periodically in the late eighties in a series of now legendary concerts\, then resumed occasionally collaborating in 2009. Typically Fisher and Rogers jointly tour now once every couple of years. Their infrequent shows together are always eagerly anticipated by their mutual fan base\, which comes prepared to have their musical reverie interrupted by brilliant flashes of wit. \n  \nFans this time will be treated to some wonderful fresh material as both artists have released new CD’s within the past year or so after seven year droughts for each of them. In Archie’s case it could hardly be fresher since his latest work\, A Silent Song\, had a release date of September 18\, 2015. Here is his own reflection on it: “An album is often said to be a snapshot in time of the artist’s repertoire but in this case there has been a bit of time travel with these songs. They range from revived historical favorites like ‘Mary Ann and Bonnie Annie Laurie’ to nearly fresh-off-the-page compositions such as ‘River Like You’ and ‘The Gifts’ by talented songwriters I admire. They are interspersed with my own personal statements of affection and feelings of loss with ‘Half The World Away’ and ‘You Took The Day.’” \n  \nIn Garnet Roger’s case his 2014 release Summer’s End was a work whose time had clearly come even though Garnet thought he had long sworn off the stresses involved in recording a CD. Here is his own reflection on it\, “In May of last year\, I looked through some notebooks and realized I had a group of songs which largely reflected what had been going on in my life\, both good and bad\, and I decided to make a record of them\, if only for myself…So in June I went to Scott Merritt’s studio and we began to set down songs in a much more relaxing and enjoyable way– just me with a guitar\, with the idea that we would decide later what else\, if anything\, was needed. It was a lovely way to work.” \nRon Olesko\, DJ at WFDU\, writing in Sing Out magazine included Summer’s End in his top ten Favorites of 2014\, saying\, “Memories of the past and the people who influenced our lives fill this beautiful recording.” Much the same can be said about Archie’s brand new release. Both Roger’s Summer’s End and Fisher’s A Silent Song are as gently reflective as their titles suggest\, and simply gorgeous to listen to. Part of that\, of course\, lies in the strength of the material included\, but it must be noted that it is rare indeed to find male vocalists with deep expressive voices as exquisite as those these two gentlemen possess.
URL:https://phoeniciany.com/event/archie-fisher-and-garnet-rogers-in-concert-for-flying-cat-music/
LOCATION:NY
CATEGORIES:Music performance
END:VEVENT
BEGIN:VEVENT
DTSTART;TZID=America/New_York:20150924T200000
DTEND;TZID=America/New_York:20150924T220000
DTSTAMP:20260423T101206
CREATED:20150921T222549Z
LAST-MODIFIED:20150921T222549Z
UID:768-1443124800-1443132000@phoeniciany.com
SUMMARY:The Phoenicia Jazz Series
DESCRIPTION:Join us at The Phoenicia Jazz Series this Thursday for an audience favorite – the Tom DePetris Quartet. Look for Tom DePetris and The Phoenicia Jazz Series on YouTube to get a taste of the music. Please “LIKE” The Phoenicia Jazz Series Page to get updates on events. There are going to be a few special evenings coming up!
URL:https://phoeniciany.com/event/the-phoenicia-jazz-series/
LOCATION:Arts Upstairs\, 60 Main Street\, Phoenicia\, NY\, 12464\, United States
CATEGORIES:Music performance
END:VEVENT
BEGIN:VEVENT
DTSTART;TZID=America/New_York:20150916T190000
DTEND;TZID=America/New_York:20150916T210000
DTSTAMP:20260423T101206
CREATED:20150912T163351Z
LAST-MODIFIED:20150912T163351Z
UID:760-1442430000-1442437200@phoeniciany.com
SUMMARY:CALAN in Concert for  Flying Cat Music
DESCRIPTION:Wednesday\, September 16\n7:30 p.m. (sharp)\, doors at 7:00 \n\nEmpire State Railway Museum\n70 Lower High Street\, Phoenicia\, NY 12464 \nAdmission price $15 or $13 with\nreservation to flyingcatmusic@gmail.com \nFor information email as above\nor call 845-688-9453\nLink to artist’s website\nhttp://www.calan-band.com/
URL:https://phoeniciany.com/event/calan-in-concert-for-flying-cat-music/
LOCATION:NY
CATEGORIES:Music performance
END:VEVENT
BEGIN:VEVENT
DTSTART;TZID=America/New_York:20150905T190000
DTEND;TZID=America/New_York:20150906T190000
DTSTAMP:20260423T101206
CREATED:20150901T170256Z
LAST-MODIFIED:20150901T170701Z
UID:756-1441479600-1441566000@phoeniciany.com
SUMMARY:Tom Pacheco in concert
DESCRIPTION:The Empire State Railway Museum is located at 70 Lower High Street in Phoenicia\, New York. Tickets are $18 at the door or $15 with an advance RSVP. Show time is 7:30 p.m. and the doors open at 7:00 p.m. This is an intimate venue with seating for approximately 50 guests. \nSeats can be reserved by emailing us at flyingcatmusic@gmail.com or by calling Flying Cat Music at 845-688-9453. RSVPs must be received by 5:00 p.m.on the day of the show in order to confirm seat availability. Advance seats can only be guaranteed until 7:20 p.m. so please arrive early to claim them. \nTom Pacheco Website
URL:https://phoeniciany.com/event/tom-pacheco-in-concert/
LOCATION:NY
CATEGORIES:Music performance
END:VEVENT
BEGIN:VEVENT
DTSTART;TZID=America/New_York:20150806T200000
DTEND;TZID=America/New_York:20150806T220000
DTSTAMP:20260423T101206
CREATED:20150803T235514Z
LAST-MODIFIED:20150804T000229Z
UID:728-1438891200-1438898400@phoeniciany.com
SUMMARY:Teri Roiger and John Menegon play The Phoenicia Jazz Series
DESCRIPTION:Thursday\, August 6 at 8:00pm\n\n\n\n\n\n\n\n\n\n\n\nThe Arts Upstairs in Phoenicia\, New York
URL:https://phoeniciany.com/event/teri-roiger-and-john-menegon-play-the-phoenicia-jazz-series/
LOCATION:Arts Upstairs\, 60 Main Street\, Phoenicia\, NY\, 12464\, United States
CATEGORIES:Music performance
ATTACH;FMTTYPE=image/jpeg:https://www.phoeniciany.com/wp-content/uploads/2015/08/11822575_1136271166388020_8119761263136038899_n.jpg
END:VEVENT
BEGIN:VEVENT
DTSTART;TZID=America/New_York:20150620T190000
DTEND;TZID=America/New_York:20150620T213000
DTSTAMP:20260423T101206
CREATED:20150614T170014Z
LAST-MODIFIED:20150614T170014Z
UID:671-1434826800-1434835800@phoeniciany.com
SUMMARY:Davey O in concert
DESCRIPTION:
URL:https://phoeniciany.com/event/davey-o-in-concert/
LOCATION:NY
CATEGORIES:Music performance
END:VEVENT
BEGIN:VEVENT
DTSTART;TZID=America/New_York:20150612T190000
DTEND;TZID=America/New_York:20150612T220000
DTSTAMP:20260423T101206
CREATED:20150612T191503Z
LAST-MODIFIED:20150612T192132Z
UID:665-1434135600-1434146400@phoeniciany.com
SUMMARY:The Spillway Band at the Catamount
DESCRIPTION:The Spillway Band plays an eclectic mix of rock\, country\, oldies\, R n’ B\, blues & originals. The band is made up of Jon Coghill on guitar and vocals\, singing drummer\, Bob Schnitzer\, and Randy Hudler on bass and vocals. Each member brings their unique talent to the group creating a fresh sound\, even to songs you’ve heard before and their diverse song list will keep you dancing all night. For more information contact us at (845) 688-2444 or visit our website   www.emersonresort.com \n  \n 
URL:https://phoeniciany.com/event/the-spillway-band-at-the-catamount/
LOCATION:The Catamount\, 5340 Rt. 28\, Mt Tremper\, NY \, NY\, 12457\, United States
CATEGORIES:Music performance
END:VEVENT
BEGIN:VEVENT
DTSTART;TZID=America/New_York:20150604T193000
DTEND;TZID=America/New_York:20150604T213000
DTSTAMP:20260423T101206
CREATED:20150604T191343Z
LAST-MODIFIED:20150604T191343Z
UID:648-1433446200-1433453400@phoeniciany.com
SUMMARY:Phoenicia Jazz Series
DESCRIPTION:On Thursday\, June 4\, 2015\, drummer Tani Tabbal will perform a special solo concert\, ‘Talking Trap Drums’\, at the Arts Upstairs in Phoenicia for a performance that promises to be a very rich listening experience. Tickets are $6; doors open at 7:30 pm and the concert begins at 8:00 pm. \n\n\n\n\n\n\n\nTonight’s show is going to be a rare treat – a great talent doing what he loves to do in an intimate listening environment. It doesn’t get much better than that. Come join us at The Phoenicia Jazz Series – and like the page to get updates on events and concerts. See you all tonight!
URL:https://phoeniciany.com/event/phoenicia-jazz-series/
LOCATION:Arts Upstairs\, 60 Main Street\, Phoenicia\, NY\, 12464\, United States
CATEGORIES:Music performance
END:VEVENT
END:VCALENDAR