BEGIN:VCALENDAR
VERSION:2.0
PRODID:-//Phoenicia New York in the Catskill Mountains - ECPv6.15.11//NONSGML v1.0//EN
CALSCALE:GREGORIAN
METHOD:PUBLISH
X-WR-CALNAME:Phoenicia New York in the Catskill Mountains
X-ORIGINAL-URL:https://phoeniciany.com
X-WR-CALDESC:Events for Phoenicia New York in the Catskill Mountains
REFRESH-INTERVAL;VALUE=DURATION:PT1H
X-Robots-Tag:noindex
X-PUBLISHED-TTL:PT1H
BEGIN:VTIMEZONE
TZID:UTC
BEGIN:STANDARD
TZOFFSETFROM:+0000
TZOFFSETTO:+0000
TZNAME:UTC
DTSTART:20150101T000000
END:STANDARD
END:VTIMEZONE
BEGIN:VEVENT
DTSTART;VALUE=DATE:20161224
DTEND;VALUE=DATE:20161225
DTSTAMP:20260422T120017
CREATED:20161206T144802Z
LAST-MODIFIED:20161206T161244Z
UID:1439-1482577200-1482623999@phoeniciany.com
SUMMARY:Tastings\, Shopping\, and Sales Dec 10-24
DESCRIPTION:Tastings\, Shopping and Sales\nSaturday\, December 10\, 11\, 17\, 18\, 24\n12:00 p.m. to 3:00 p.m. \nJoin us at the Emerson Country Stores for a sampling of local foods. \nDecember 10 & 11 – Gourmet Sweet Hot Maple Dipping Mustard by Tea Thyme Herb Farm. All of Tea Thyme Farm products are created in Denver\, NY. Check out their other great products like vinegars\, syrup and more. \nDecember 17 & 18 – Join us at the Emerson Country Stores for a sampling of ImmuneSchein Elixir and strengthen your immunity naturally! Proudly handmade in the Hudson Valley! Just in time for the holidays\, shop for one-of-a-kind beaded jewelry by Susan Paroubek. \nDecember 24 – Join us at the Emerson Country Stores for a sampling of Stonewall Kitchen dessert sauce Dulce de Leche. Take a look at our large selection of Stonewall Kitchen products from gourmet spreads and jams to pancake and waffle mixes. \nFor more information\, contact us at (845) 688-2828 or visit our website emersonresort.com.
URL:https://phoeniciany.com/event/tastings-shopping-and-sales-2/
LOCATION:The Emerson Resort & Spa\, Route 28\, Mount Tremper\, NY\, United States
CATEGORIES:Food Event,SALE
END:VEVENT
BEGIN:VEVENT
DTSTART;TZID=UTC:20161217T090000
DTEND;TZID=UTC:20161217T120000
DTSTAMP:20260422T120017
CREATED:20161206T160558Z
LAST-MODIFIED:20161206T160558Z
UID:1441-1481965200-1481976000@phoeniciany.com
SUMMARY:Breakfast with Santa
DESCRIPTION:Breakfast with Santa at Woodnotes Grille\nSaturday\, December 17th\n9:00 am to 12:00 pm \nTake selfies with Santa\, enjoy an STS Playhouse holiday music performance at 9:30 am and a sneak peek of the STS Playhouse production of Miracle on 34th St. along with a hearty\, Catskill style breakfast at Woodnotes Grille. After breakfast\, be sure to visit the Emerson’s North Pole in the Country Stores. Santa’s special Elf will be there too! For reservations call (845) 688- 2828 or visit our website emersonresort.com.
URL:https://phoeniciany.com/event/breakfast-with-santa/
LOCATION:The Emerson Resort & Spa\, Route 28\, Mount Tremper\, NY\, United States
CATEGORIES:Food Event,Holiday Fair
END:VEVENT
BEGIN:VEVENT
DTSTART;TZID=UTC:20161203T170000
DTEND;TZID=UTC:20161203T220000
DTSTAMP:20260422T120017
CREATED:20161103T223938Z
LAST-MODIFIED:20161127T181307Z
UID:1344-1480784400-1480802400@phoeniciany.com
SUMMARY:Miracle on Main - Phoenicia Holiday Tree Lighting & Celebration
DESCRIPTION:MF Whitney Hose Co. Presents \nMiracle on Main Street\nSaturday\, December 3rd @ 5:00pm \nTree Lighting Ceremony\n5pm @ The Ice Cream Station – 76 Main Street\nSanta’s arrival on the fire truck\nPerformances  by: Chris Maxwell\, Nadou Louis & surprise guests!\nTree topper by artist Christina Varga\nChristmas carolers | Hot cocoa \nFire House Party\n6pm @ MF Whitney Fire House – Rte. 214\nFree snacks & drinks from local businesses\nPictures on Santa’s lap\nSTS performs scene from Miracle on 34th Street\nFace painting | Christmas craft table\nOrnaments from: High school Art Club\,\nPhoenicia Elementary & Woodland Playhouse \nShops Open Late\nMelange\, Twig\, Tender Land Home\, and\nNest Egg + 20% off @ Mystery Spot \nLIGHT THE TREE!\n$2 raffle\nWin a chance for your child (12 and under)\nto light the Christmas Tree with Santa.\n100% of raffle ticket sales go to\nMF WHITNEY HOSE COMPANY\n(Phoenicia’s all Volunteer Fire Department) \nRaffle Tix Available @\nTender Land Home\nPhoenicia Diner\nThe Nest Egg\nMélange \nSponsors:\nUlster SavingsMigliorelli Farms\nAmy’s Take Away & Catering\nThe Nest Egg\nPhoenicia Business Association
URL:https://phoeniciany.com/event/miracle-on-main-phoenicia-holiday-tree-lighting-celebration/
LOCATION:Phoenicia Main Street\, 58 Main Street\, Phoenicia\, NY\, 12464\, United States
CATEGORIES:Children's Event,Community Dinner,Concert,Food Event,Fundraiser,Holiday Fair,Music performance,Party,Tree Lighting
ATTACH;FMTTYPE=image/jpeg:https://www.phoeniciany.com/wp-content/uploads/2016/11/miracle-banner-vert-1.jpg
END:VEVENT
BEGIN:VEVENT
DTSTART;TZID=UTC:20160528T160000
DTEND;TZID=UTC:20160528T190000
DTSTAMP:20260422T120017
CREATED:20160517T234920Z
LAST-MODIFIED:20160517T234920Z
UID:1085-1464451200-1464462000@phoeniciany.com
SUMMARY:Meet John Burroughs in the Heart of the Southern Catskills
DESCRIPTION:Local historian\, photographer & tour guide\, Paul Misko\, is offering a talk that focuses on John Burroughs’ attempts to scale Slide Mt. in Woodland Valley. His talk will be enhanced by an audiovisual presentation and Burroughs’ journal comments. \n\nDATE: May 28\,2016\nTIME: 4 PM\nPRICE: $5 Advance reservations suggested. (please call ahead)\nVENUE: Amy’s Take-Away – 1571 Route 214\,Lanesville (5 miles north of Phoenicia)\nCONTACT:\n\nPHONE NUMBER: (845) 688-9759\nEMAIL ADDRESS: amystakeaway@gmail.com \nWEBSITE www.amystakeaway.com\n\n\n\nAmy’s Take-Away will be selling ‘historic’  foods which would have been eaten during Burroughs’ lifetime (1837-1921). Menu available:  www.amystakeaway.com \n 
URL:https://phoeniciany.com/event/meet-john-burroughs-in-the-heart-of-the-southern-catskills/
LOCATION:Amy’s Take-Away\, 1571 Route 214\, Lanesville\, NY\, 12450\, United States
CATEGORIES:Food Event,Historical Talk,John Burroughs Event,Public Speaking
END:VEVENT
END:VCALENDAR