BEGIN:VCALENDAR
VERSION:2.0
PRODID:-//Phoenicia New York in the Catskill Mountains - ECPv6.15.11//NONSGML v1.0//EN
CALSCALE:GREGORIAN
METHOD:PUBLISH
X-ORIGINAL-URL:https://phoeniciany.com
X-WR-CALDESC:Events for Phoenicia New York in the Catskill Mountains
REFRESH-INTERVAL;VALUE=DURATION:PT1H
X-Robots-Tag:noindex
X-PUBLISHED-TTL:PT1H
BEGIN:VTIMEZONE
TZID:America/New_York
BEGIN:DAYLIGHT
TZOFFSETFROM:-0500
TZOFFSETTO:-0400
TZNAME:EDT
DTSTART:20180311T070000
END:DAYLIGHT
BEGIN:STANDARD
TZOFFSETFROM:-0400
TZOFFSETTO:-0500
TZNAME:EST
DTSTART:20181104T060000
END:STANDARD
BEGIN:DAYLIGHT
TZOFFSETFROM:-0500
TZOFFSETTO:-0400
TZNAME:EDT
DTSTART:20190310T070000
END:DAYLIGHT
BEGIN:STANDARD
TZOFFSETFROM:-0400
TZOFFSETTO:-0500
TZNAME:EST
DTSTART:20191103T060000
END:STANDARD
BEGIN:DAYLIGHT
TZOFFSETFROM:-0500
TZOFFSETTO:-0400
TZNAME:EDT
DTSTART:20200308T070000
END:DAYLIGHT
BEGIN:STANDARD
TZOFFSETFROM:-0400
TZOFFSETTO:-0500
TZNAME:EST
DTSTART:20201101T060000
END:STANDARD
BEGIN:DAYLIGHT
TZOFFSETFROM:-0500
TZOFFSETTO:-0400
TZNAME:EDT
DTSTART:20210314T070000
END:DAYLIGHT
BEGIN:STANDARD
TZOFFSETFROM:-0400
TZOFFSETTO:-0500
TZNAME:EST
DTSTART:20211107T060000
END:STANDARD
BEGIN:DAYLIGHT
TZOFFSETFROM:-0500
TZOFFSETTO:-0400
TZNAME:EDT
DTSTART:20220313T070000
END:DAYLIGHT
BEGIN:STANDARD
TZOFFSETFROM:-0400
TZOFFSETTO:-0500
TZNAME:EST
DTSTART:20221106T060000
END:STANDARD
BEGIN:DAYLIGHT
TZOFFSETFROM:-0500
TZOFFSETTO:-0400
TZNAME:EDT
DTSTART:20230312T070000
END:DAYLIGHT
BEGIN:STANDARD
TZOFFSETFROM:-0400
TZOFFSETTO:-0500
TZNAME:EST
DTSTART:20231105T060000
END:STANDARD
BEGIN:DAYLIGHT
TZOFFSETFROM:-0500
TZOFFSETTO:-0400
TZNAME:EDT
DTSTART:20240310T070000
END:DAYLIGHT
BEGIN:STANDARD
TZOFFSETFROM:-0400
TZOFFSETTO:-0500
TZNAME:EST
DTSTART:20241103T060000
END:STANDARD
END:VTIMEZONE
BEGIN:VEVENT
DTSTART;TZID=America/New_York:20230902T190000
DTEND;TZID=America/New_York:20230902T213000
DTSTAMP:20260422T162352
CREATED:20230419T020519Z
LAST-MODIFIED:20230419T022738Z
UID:3180-1693681200-1693690200@phoeniciany.com
SUMMARY:Live Music - Heron Valley
DESCRIPTION:Flying Cat Music Presents \nHeron Valley Live in Concert \nSaturday\, September 2nd\nDoors at 7:00 pm – Show at 7:30 pm \n$22 advance / $25 at the door \nTickets and more info at: https://flyingcatmusic.com
URL:https://phoeniciany.com/event/heron-valley/
LOCATION:United Methodist Church\, 29 Church Street\, Phoenicia\, NY\, 12464\, United States
CATEGORIES:Flying Cat Music,Live Music,Music,Music performance
ATTACH;FMTTYPE=image/webp:https://www.phoeniciany.com/wp-content/uploads/2023/04/meta-eyJzcmNCdWNrZXQiOiJiemdsZmlsZXMifQ.jpg-8.webp
ORGANIZER;CN="Flying Cat Music":MAILTO:FlyingCatMusic@gmail.com
END:VEVENT
BEGIN:VEVENT
DTSTART;TZID=America/New_York:20230812T190000
DTEND;TZID=America/New_York:20230812T213000
DTSTAMP:20260422T162352
CREATED:20230419T020208Z
LAST-MODIFIED:20230419T023243Z
UID:3177-1691866800-1691875800@phoeniciany.com
SUMMARY:Live Music - Cricket Blue
DESCRIPTION:Flying Cat Music Presents \nCricket Blue Live in Concert \nSaturday\, August 12th\nDoors at 7:00 pm – Show at 7:30 pm \n$16 advance / $18 at the door \nTickets and more info at: https://flyingcatmusic.com
URL:https://phoeniciany.com/event/cricket-blue/
LOCATION:United Methodist Church\, 29 Church Street\, Phoenicia\, NY\, 12464\, United States
CATEGORIES:Flying Cat Music,Live Music,Music,Music performance
ATTACH;FMTTYPE=image/webp:https://www.phoeniciany.com/wp-content/uploads/2023/04/meta-eyJzcmNCdWNrZXQiOiJiemdsZmlsZXMifQ.jpg-7.webp
ORGANIZER;CN="Flying Cat Music":MAILTO:FlyingCatMusic@gmail.com
END:VEVENT
BEGIN:VEVENT
DTSTART;TZID=America/New_York:20230722T190000
DTEND;TZID=America/New_York:20230722T213000
DTSTAMP:20260422T162352
CREATED:20230419T015859Z
LAST-MODIFIED:20230712T115340Z
UID:3174-1690052400-1690061400@phoeniciany.com
SUMMARY:Live Music - Heather Pierson
DESCRIPTION:Flying Cat Music Presents \nHeather Pierson Live in Concert \nSaturday\, July 22nd\nDoors at 7:00 pm – Show at 7:30 pm \n$18 advance / $20 at the door \nTickets and more info at: https://flyingcatmusic.com
URL:https://phoeniciany.com/event/live-music-heather-pierson/
LOCATION:United Methodist Church\, 29 Church Street\, Phoenicia\, NY\, 12464\, United States
CATEGORIES:Flying Cat Music,Live Music,Music,Music performance
ATTACH;FMTTYPE=image/webp:https://www.phoeniciany.com/wp-content/uploads/2023/04/meta-eyJzcmNCdWNrZXQiOiJiemdsZmlsZXMifQ.jpg-6.webp
ORGANIZER;CN="Flying Cat Music":MAILTO:FlyingCatMusic@gmail.com
END:VEVENT
BEGIN:VEVENT
DTSTART;TZID=America/New_York:20230708T190000
DTEND;TZID=America/New_York:20230708T213000
DTSTAMP:20260422T162352
CREATED:20230419T015531Z
LAST-MODIFIED:20230625T192156Z
UID:3170-1688842800-1688851800@phoeniciany.com
SUMMARY:Live Music - Lynne Hanson
DESCRIPTION:Flying Cat Music Presents \nLynne Hanson Live in Concert \nSaturday\, July 8th\nDoors at 7:00 pm – Show at 7:30 pm \n$18 advance / $20 at the door \nTickets and more info at: https://flyingcatmusic.com
URL:https://phoeniciany.com/event/live-music-lynne-hanson/
LOCATION:United Methodist Church\, 29 Church Street\, Phoenicia\, NY\, 12464\, United States
CATEGORIES:Flying Cat Music,Live Music,Music,Music performance
ATTACH;FMTTYPE=image/webp:https://www.phoeniciany.com/wp-content/uploads/2023/04/meta-eyJzcmNCdWNrZXQiOiJiemdsZmlsZXMifQ.jpg-5.webp
ORGANIZER;CN="Flying Cat Music":MAILTO:FlyingCatMusic@gmail.com
END:VEVENT
BEGIN:VEVENT
DTSTART;TZID=America/New_York:20230624T190000
DTEND;TZID=America/New_York:20230624T213000
DTSTAMP:20260422T162352
CREATED:20230419T014923Z
LAST-MODIFIED:20230419T022832Z
UID:3167-1687633200-1687642200@phoeniciany.com
SUMMARY:Live Music - Ellis Paul
DESCRIPTION:Flying Cat Music Presents \nEllis Paul Live in Concert \nSaturday\, June 24th\nDoors at 7:00 pm – Show at 7:30 pm \n$23 advance / $25 at the door \nTickets and more info at: https://flyingcatmusic.com
URL:https://phoeniciany.com/event/live-music-ellis-paul/
LOCATION:United Methodist Church\, 29 Church Street\, Phoenicia\, NY\, 12464\, United States
CATEGORIES:Flying Cat Music,Live Music,Music,Music performance
ATTACH;FMTTYPE=image/webp:https://www.phoeniciany.com/wp-content/uploads/2023/04/meta-eyJzcmNCdWNrZXQiOiJiemdsZmlsZXMifQ.jpg-4.webp
ORGANIZER;CN="Flying Cat Music":MAILTO:FlyingCatMusic@gmail.com
END:VEVENT
BEGIN:VEVENT
DTSTART;TZID=America/New_York:20230610T190000
DTEND;TZID=America/New_York:20230610T213000
DTSTAMP:20260422T162352
CREATED:20230419T014524Z
LAST-MODIFIED:20230419T023056Z
UID:3164-1686423600-1686432600@phoeniciany.com
SUMMARY:Live Music - Guthrie's Ghost
DESCRIPTION:Flying Cat Music Presents \nGuthrie’s Ghost Live in Concert \nSaturday\, June 10th\nDoors at 7:00 pm – Show at 7:30 pm \n$18 advance / $20 at the door \nTickets and more info at: https://flyingcatmusic.com
URL:https://phoeniciany.com/event/live-music-guthries-ghost/
LOCATION:United Methodist Church\, 29 Church Street\, Phoenicia\, NY\, 12464\, United States
CATEGORIES:Flying Cat Music,Live Music,Music,Music performance
ATTACH;FMTTYPE=image/webp:https://www.phoeniciany.com/wp-content/uploads/2023/04/meta-eyJzcmNCdWNrZXQiOiJiemdsZmlsZXMifQ.jpg-3.webp
ORGANIZER;CN="Flying Cat Music":MAILTO:FlyingCatMusic@gmail.com
END:VEVENT
BEGIN:VEVENT
DTSTART;TZID=America/New_York:20230527T190000
DTEND;TZID=America/New_York:20230527T213000
DTSTAMP:20260422T162352
CREATED:20230419T014111Z
LAST-MODIFIED:20230512T140932Z
UID:3161-1685214000-1685223000@phoeniciany.com
SUMMARY:Live Music - Antje Duvekot
DESCRIPTION:Flying Cat Music Presents \nAntje Duvekot Live in Concert \nSaturday May 27th\nDoors at 7:00 pm – Show at 7:30 pm \n$20 advance / $22 at the door \nTickets and more info at: https://flyingcatmusic.com
URL:https://phoeniciany.com/event/live-music-antje-duvekot/
LOCATION:United Methodist Church\, 29 Church Street\, Phoenicia\, NY\, 12464\, United States
CATEGORIES:Flying Cat Music,Live Music,Music,Music performance
ATTACH;FMTTYPE=image/webp:https://www.phoeniciany.com/wp-content/uploads/2023/04/meta-eyJzcmNCdWNrZXQiOiJiemdsZmlsZXMifQ.jpg-2.webp
ORGANIZER;CN="Flying Cat Music":MAILTO:FlyingCatMusic@gmail.com
END:VEVENT
BEGIN:VEVENT
DTSTART;TZID=America/New_York:20230513T190000
DTEND;TZID=America/New_York:20230513T213000
DTSTAMP:20260422T162352
CREATED:20230419T012955Z
LAST-MODIFIED:20230427T131649Z
UID:3154-1684004400-1684013400@phoeniciany.com
SUMMARY:Live Music - Peter Mulvey
DESCRIPTION:Flying Cat Music Presents \nPeter Mulvey Live in Concert \nSaturday May 13th\nDoors at 7:00 pm – Show at 7:30 pm \n$16 advance / $18 at the door \nTickets and more info at: https://flyingcatmusic.com
URL:https://phoeniciany.com/event/live-music-peter-mulvey/
LOCATION:United Methodist Church\, 29 Church Street\, Phoenicia\, NY\, 12464\, United States
CATEGORIES:Flying Cat Music,Live Music,Music,Music performance
ATTACH;FMTTYPE=image/jpeg:https://www.phoeniciany.com/wp-content/uploads/2023/04/Peter-Mulvey-Poster-LD.jpg
ORGANIZER;CN="Flying Cat Music":MAILTO:FlyingCatMusic@gmail.com
END:VEVENT
BEGIN:VEVENT
DTSTART;TZID=America/New_York:20221203T190000
DTEND;TZID=America/New_York:20221203T213000
DTSTAMP:20260422T162352
CREATED:20220920T164405Z
LAST-MODIFIED:20221115T162350Z
UID:3052-1670094000-1670103000@phoeniciany.com
SUMMARY:Garnet Rogers in Concert
DESCRIPTION:GARNET ROGERS IN CONCERT \nSaturday December 3\, 2022\n7:30 Sharp – Doors at 7:00\nUnited Methodist Church\n29 Church Street – Phoenicia\, NY\nTicket Price $23 in advance $25 at the door – online at flyingcatmusic.org \nFor information call\n845-688-4692 \n\n\nHailed by the Boston Globe as a “charismatic performer and singer”\, Garnet is a man with a powerful physical presence – close to six and a half feet tall – with a voice to match. With his “smooth\, dark baritone” (Washington Post) his incredible range\, and thoughtful\, dramatic phrasing\, Garnet is widely considered by fans and critics alike to be one of the finest singers anywhere. His music\, like the man himself\, is literate\, passionate\, highly sensitive\, and deeply purposeful. Cinematic in detail\, his songs “give expression to the unspoken vocabulary of the heart” (Kitchener Waterloo Record). An optimist at heart\, Garnet sings extraordinary songs about people who are not obvious heroes and of the small victories of the everyday. As memorable as his songs\, his over-the-top humour and lightning-quick wit moves his audience from tears to laughter and back again. \nMore: https://garnetrogers.com/ \n\nPhoto Credit: Bruce Dienes
URL:https://phoeniciany.com/event/garnet-rogers-in-concert-2/
LOCATION:United Methodist Church\, 29 Church Street\, Phoenicia\, NY\, 12464\, United States
CATEGORIES:Concert,Flying Cat Music,Music,Music performance,performance,Phoenicia Music Series
ATTACH;FMTTYPE=image/jpeg:https://www.phoeniciany.com/wp-content/uploads/2022/09/GR-Poster-HD-scaled.jpg
ORGANIZER;CN="Flying Cat Music":MAILTO:FlyingCatMusic@gmail.com
END:VEVENT
BEGIN:VEVENT
DTSTART;TZID=America/New_York:20221126T190000
DTEND;TZID=America/New_York:20221126T213000
DTSTAMP:20260422T162352
CREATED:20220920T164121Z
LAST-MODIFIED:20221115T162516Z
UID:3050-1669489200-1669498200@phoeniciany.com
SUMMARY:Matt Nakoa in Concert
DESCRIPTION:MATT NAKOA IN CONCERT \nSaturday\, November 26\, 2022\n7:30 Sharp – Doors at 7:00\nUnited Methodist Church\n29 Church Street – Phoenicia\, NY\n$20 cash at the door or $18 online at flyingcatmusic.org \nFor information call\n845-688-4692 \n\nMatt Nakoa is an award-winning songwriter\, singer\, and multi-instrumentalist. A modern troubadour\, he makes his home on the highways and concert stages of America\, and appears regularly with folk music icon Tom Rush. The Boston Globe says of Nakoa\, “Between his piano chops and heartfelt originals on guitar\, he drops jaws.” \nMore at: https://mattnakoa.com/ \n\n 
URL:https://phoeniciany.com/event/matt-nakoa-in-concert/
LOCATION:United Methodist Church\, 29 Church Street\, Phoenicia\, NY\, 12464\, United States
CATEGORIES:Concert,Flying Cat Music,Live Music,Music,Music performance,Phoenicia Music Series
ATTACH;FMTTYPE=image/jpeg:https://www.phoeniciany.com/wp-content/uploads/2022/09/MN-Poster-HD-scaled.jpg
ORGANIZER;CN="Flying Cat Music":MAILTO:FlyingCatMusic@gmail.com
END:VEVENT
BEGIN:VEVENT
DTSTART;TZID=America/New_York:20221105T190000
DTEND;TZID=America/New_York:20221105T213000
DTSTAMP:20260422T162352
CREATED:20220920T163730Z
LAST-MODIFIED:20221027T141430Z
UID:3047-1667674800-1667683800@phoeniciany.com
SUMMARY:Ray Bonneville in Concert
DESCRIPTION:RAY BONNEVILLE IN CONCERT \nSaturday November 5\, 2022\n7:30 Sharp – Doors at 7:00\nUnited Methodist Church\n29 Church Street – Phoenicia\, NY\n$23 in advance $25 at the door – online at flyingcatmusic.org \nFor information call\n845-688-4692 \n\nAcclaimed raconteur Ray Bonneville strips his bluesy Americana down to its essentials and steeps it in the humid grooves of the South\, creating a compelling poetry of hard living and deep feeling. \nMore at: https://raybonneville.com/ \n\n 
URL:https://phoeniciany.com/event/ray-bonneville-in-concert/
LOCATION:United Methodist Church\, 29 Church Street\, Phoenicia\, NY\, 12464\, United States
CATEGORIES:Concert,Flying Cat Music,Live Music,Music,Music performance,Phoenicia Music Series
ATTACH;FMTTYPE=image/jpeg:https://www.phoeniciany.com/wp-content/uploads/2022/09/RB-Poster-HD-scaled.jpg
ORGANIZER;CN="Flying Cat Music":MAILTO:FlyingCatMusic@gmail.com
END:VEVENT
BEGIN:VEVENT
DTSTART;TZID=America/New_York:20221022T190000
DTEND;TZID=America/New_York:20221022T213000
DTSTAMP:20260422T162352
CREATED:20220920T163438Z
LAST-MODIFIED:20221019T162649Z
UID:3045-1666465200-1666474200@phoeniciany.com
SUMMARY:Crys Matthews in Concert
DESCRIPTION:CRYS MATTHEWS IN CONCERT \nSaturday October 22\, 2022\n7:30 Sharp – Doors at 7:00\nUnited Methodist Church\n29 Church Street – Phoenicia\, NY\n$20 cash at the door or $18 online at flyingcatmusic.org \nFor information call\n845-688-4692 \nA powerful lyricist whose songs of compassionate dissent reflect her lived experience as what she lightheartedly calls “the poster-child for intersectionality\,” Crys Matthews is made for these times\, and her new\, hope-fueled\, love-filled social justice album Changemakers is a resounding affirmation of that fact. \nMore: https://www.crysmatthews.com/
URL:https://phoeniciany.com/event/crys-matthews-in-concert/
LOCATION:United Methodist Church\, 29 Church Street\, Phoenicia\, NY\, 12464\, United States
CATEGORIES:Concert,Flying Cat Music,Live Music,Music,Music performance,Phoenicia Music Series
ATTACH;FMTTYPE=image/jpeg:https://www.phoeniciany.com/wp-content/uploads/2022/09/Crys-Poster-HD-scaled.jpg
ORGANIZER;CN="Flying Cat Music":MAILTO:FlyingCatMusic@gmail.com
END:VEVENT
BEGIN:VEVENT
DTSTART;TZID=America/New_York:20220930T190000
DTEND;TZID=America/New_York:20220930T213000
DTSTAMP:20260422T162352
CREATED:20220920T162723Z
LAST-MODIFIED:20220920T162723Z
UID:3042-1664564400-1664573400@phoeniciany.com
SUMMARY:Sofia Talvik in Concert
DESCRIPTION:SOFIA TALVIK IN CONCERT \nFriday September 30\, 2022\n7:30 Sharp – Doors at 7:00\nUnited Methodist Church\n29 Church Street – Phoenicia\, NY\n$18 cash at the door or $15 online at flyingcatmusic.org \nFor information call\n845-688-4692 \n“With a crystal clear\, chillingly wavering vocal\,\nTalvik will break your heart….” \n– Americana Highways \nMore info on the artist at: https://sofiatalvik.com/
URL:https://phoeniciany.com/event/sofia-talvik-in-concert/
LOCATION:United Methodist Church\, 29 Church Street\, Phoenicia\, NY\, 12464\, United States
CATEGORIES:Concert,Flying Cat Music,Music,Music performance,performance,Phoenicia Music Series
ATTACH;FMTTYPE=image/jpeg:https://www.phoeniciany.com/wp-content/uploads/2022/09/Talvik-Poster-LD.jpg
ORGANIZER;CN="Flying Cat Music":MAILTO:FlyingCatMusic@gmail.com
END:VEVENT
BEGIN:VEVENT
DTSTART;TZID=America/New_York:20220730T190000
DTEND;TZID=America/New_York:20220730T223000
DTSTAMP:20260422T162352
CREATED:20220721T030911Z
LAST-MODIFIED:20220721T030911Z
UID:3026-1659207600-1659220200@phoeniciany.com
SUMMARY:The End of America - In Concert
DESCRIPTION:Flying Cat Music Presents TEOA \nTHE END OF AMERICA\nSaturday\, July 30\, 2022\n7:30 PM (sharp)\, Doors at 7:00\nPhoenicia United Methodist Church\n29 Church Street\, Phoenicia\, NY \nAdmission is $20 cash at the door or $18 online at flyingcatmusic.org\nFor information call 845-688-4692 \n“The tightest harmonies since Crosby\, Stills\, and Nash were young.”\n – Audiofuzz \n“They sound great and they seem to be loving doing it.”\n– David Crosby \n2021 Best Alt Country Album – No Depression Magazine
URL:https://phoeniciany.com/event/the-end-of-america-in-concert-2/
LOCATION:United Methodist Church\, 29 Church Street\, Phoenicia\, NY\, 12464\, United States
CATEGORIES:Community Event,Concert,Flying Cat Music,Live Music,Music
ATTACH;FMTTYPE=image/jpeg:https://www.phoeniciany.com/wp-content/uploads/2022/07/TEOA-poster-scaled.jpg
ORGANIZER;CN="Flying Cat Music":MAILTO:FlyingCatMusic@gmail.com
END:VEVENT
BEGIN:VEVENT
DTSTART;TZID=America/New_York:20191020T143000
DTEND;TZID=America/New_York:20191020T173000
DTSTAMP:20260422T162352
CREATED:20191017T154204Z
LAST-MODIFIED:20191017T154204Z
UID:2433-1571581800-1571592600@phoeniciany.com
SUMMARY:Jean Rohe in Concert
DESCRIPTION:On Sunday\, October 20\, Flying Cat Music presents the brilliant\, genre-breaking songwriter Jean Rohe and her band in a matinee concert at the United Methodist Church\, 29 Church Street\, Phoenicia. The doors open at 2:30 p.m. with music beginning at 3:00 sharp. Admission is $18 (cash) at the door or $15 by noon day of show at www.flyingcatmusic.org. 845-688-4692.
URL:https://phoeniciany.com/event/jean-rohe-in-concert/
LOCATION:United Methodist Church\, 29 Church Street\, Phoenicia\, NY\, 12464\, United States
CATEGORIES:Flying Cat Music,Live Music,Music,Music performance
ATTACH;FMTTYPE=image/jpeg:https://www.phoeniciany.com/wp-content/uploads/2019/10/JR-Poster-LD.jpg
ORGANIZER;CN="Flying Cat Music":MAILTO:FlyingCatMusic@gmail.com
END:VEVENT
BEGIN:VEVENT
DTSTART;TZID=America/New_York:20190720T190000
DTEND;TZID=America/New_York:20190720T220000
DTSTAMP:20260422T162352
CREATED:20190709T144858Z
LAST-MODIFIED:20190709T144858Z
UID:2386-1563649200-1563660000@phoeniciany.com
SUMMARY:The End of America in Concert
DESCRIPTION:Flying Cat Music Presents\nThe End of America in Concert \nSaturday\, July 20\, 2019 \n7:30 PM (sharp)\, Doors at 7:00\n\nUnited Methodist Church\n29 Church Street\, Phoenicia\, NY\n\nAdmission is $18 cash at the door\nor $15 online at flyingcatmusic.org\n\nFor information call 845-688-4692
URL:https://phoeniciany.com/event/the-end-of-america-in-concert/
LOCATION:United Methodist Church\, 29 Church Street\, Phoenicia\, NY\, 12464\, United States
CATEGORIES:Flying Cat Music,Music,Music performance
ATTACH;FMTTYPE=image/jpeg:https://www.phoeniciany.com/wp-content/uploads/2019/07/PosterLD.jpg
ORGANIZER;CN="":MAILTO:todd@esopuscreel.com
END:VEVENT
END:VCALENDAR