BEGIN:VCALENDAR
VERSION:2.0
PRODID:-//Phoenicia New York in the Catskill Mountains - ECPv6.15.11//NONSGML v1.0//EN
CALSCALE:GREGORIAN
METHOD:PUBLISH
X-WR-CALNAME:Phoenicia New York in the Catskill Mountains
X-ORIGINAL-URL:https://phoeniciany.com
X-WR-CALDESC:Events for Phoenicia New York in the Catskill Mountains
REFRESH-INTERVAL;VALUE=DURATION:PT1H
X-Robots-Tag:noindex
X-PUBLISHED-TTL:PT1H
BEGIN:VTIMEZONE
TZID:UTC
BEGIN:STANDARD
TZOFFSETFROM:+0000
TZOFFSETTO:+0000
TZNAME:UTC
DTSTART:20150101T000000
END:STANDARD
END:VTIMEZONE
BEGIN:VEVENT
DTSTART;TZID=UTC:20160805T123000
DTEND;TZID=UTC:20160805T133000
DTSTAMP:20260422T044707
CREATED:20160326T180545Z
LAST-MODIFIED:20160326T180545Z
UID:977-1470400200-1470403800@phoeniciany.com
SUMMARY:Festival Of The Voice: Master Class
DESCRIPTION:Master Class: Experience public work between master and apprentice \nFriday August 5th: 12:30 pm Methodist Church \nFor Tickets: Call 845-688-3239 or visit PhoeniciaVoiceFest.org \n$5. 18 and under\n$25. General
URL:https://phoeniciany.com/event/festival-of-the-voice-master-class/
LOCATION:Methodist Church\, Phoenicia\, NY\, 12464\, United States
CATEGORIES:Festival Of the Voice
END:VEVENT
BEGIN:VEVENT
DTSTART;TZID=UTC:20160805T110000
DTEND;TZID=UTC:20160805T120000
DTSTAMP:20260422T044707
CREATED:20160326T180021Z
LAST-MODIFIED:20160326T180021Z
UID:975-1470394800-1470398400@phoeniciany.com
SUMMARY:Festival Of The Voice: Sacred Harp
DESCRIPTION:Sacred Harp: Shape note workshop for all \nFriday August 5th: 11am Wesleyan Church \nFor Tickets: Call 845-688-3239 or visit PhoeniciaVoiceFest.org \n 
URL:https://phoeniciany.com/event/festival-of-the-voice-sacred-harp/
LOCATION:Wesleyan Church\, 22 Main Street\, Phoenicia\, NY\, 12464\, United States
CATEGORIES:Festival Of the Voice
END:VEVENT
BEGIN:VEVENT
DTSTART;TZID=UTC:20160805T100000
DTEND;TZID=UTC:20160805T110000
DTSTAMP:20260422T044707
CREATED:20160326T175429Z
LAST-MODIFIED:20160326T175429Z
UID:971-1470391200-1470394800@phoeniciany.com
SUMMARY:Festival Of the Voice: Latte Lecture Kiss Me\, Kate with Lee Roy Reams and Jerry Steichen
DESCRIPTION:Latte Lecture: Kiss Me\, Kate with Lee Roy Reams and Jerry Steichen \nFriday  August 5th: 10 am Phoenicia Park Lounge \nFor Tickets: Call 845-688-3239 or visit PhoeniciaVoiceFest.org \n 
URL:https://phoeniciany.com/event/festival-of-the-voice-latte-lecture-kiss-me-kate-with-lee-roy-reams-and-jerry-steichen/
LOCATION:Phoenicia Park Lounge\, Phoenicia\, NY\, 12464\, United States
CATEGORIES:Festival Of the Voice
END:VEVENT
BEGIN:VEVENT
DTSTART;TZID=UTC:20160804T200000
DTEND;TZID=UTC:20160804T220000
DTSTAMP:20260422T044707
CREATED:20160326T174815Z
LAST-MODIFIED:20160326T175556Z
UID:969-1470340800-1470348000@phoeniciany.com
SUMMARY:Festival of the Voice: Rock The Beatles
DESCRIPTION:Rock the Beatles: Paul Green’s Rock Academy plays music from the psychedelic era \nThursday August 4th: 8pm Main Stage (Phoenicia Park) \nFor Tickets: Call 845-688-3239 or visit PhoeniciaVoiceFest.org \n$5. 18 an under\n$35. General admission\n$90. VIP admission
URL:https://phoeniciany.com/event/festival-of-the-voice-rock-the-beatles/
LOCATION:Phoenicia Park\, Phoenicia\, 12464
CATEGORIES:Festival Of the Voice
END:VEVENT
END:VCALENDAR