BEGIN:VCALENDAR
VERSION:2.0
PRODID:-//Phoenicia New York in the Catskill Mountains - ECPv6.15.11//NONSGML v1.0//EN
CALSCALE:GREGORIAN
METHOD:PUBLISH
X-ORIGINAL-URL:https://phoeniciany.com
X-WR-CALDESC:Events for Phoenicia New York in the Catskill Mountains
REFRESH-INTERVAL;VALUE=DURATION:PT1H
X-Robots-Tag:noindex
X-PUBLISHED-TTL:PT1H
BEGIN:VTIMEZONE
TZID:America/New_York
BEGIN:DAYLIGHT
TZOFFSETFROM:-0500
TZOFFSETTO:-0400
TZNAME:EDT
DTSTART:20240310T070000
END:DAYLIGHT
BEGIN:STANDARD
TZOFFSETFROM:-0400
TZOFFSETTO:-0500
TZNAME:EST
DTSTART:20241103T060000
END:STANDARD
BEGIN:DAYLIGHT
TZOFFSETFROM:-0500
TZOFFSETTO:-0400
TZNAME:EDT
DTSTART:20250309T070000
END:DAYLIGHT
BEGIN:STANDARD
TZOFFSETFROM:-0400
TZOFFSETTO:-0500
TZNAME:EST
DTSTART:20251102T060000
END:STANDARD
BEGIN:DAYLIGHT
TZOFFSETFROM:-0500
TZOFFSETTO:-0400
TZNAME:EDT
DTSTART:20260308T070000
END:DAYLIGHT
BEGIN:STANDARD
TZOFFSETFROM:-0400
TZOFFSETTO:-0500
TZNAME:EST
DTSTART:20261101T060000
END:STANDARD
END:VTIMEZONE
BEGIN:VTIMEZONE
TZID:UTC
BEGIN:STANDARD
TZOFFSETFROM:+0000
TZOFFSETTO:+0000
TZNAME:UTC
DTSTART:20150101T000000
END:STANDARD
END:VTIMEZONE
BEGIN:VEVENT
DTSTART;TZID=America/New_York:20250621T140000
DTEND;TZID=America/New_York:20250621T170000
DTSTAMP:20260423T155646
CREATED:20250617T121715Z
LAST-MODIFIED:20250617T121943Z
UID:3740-1750514400-1750525200@phoeniciany.com
SUMMARY:Grouchy Frog Storywalk®
DESCRIPTION:Meet Author\, Mom and Illustrator Zachary Calinda\nat the GROUCHY FROG STORYWALK® event\nSaturday\, June 21\, 2pm at the Emerson Resort.\nYoung readers\, come take a walk through the pages of The Grouchy Frog\,\nrooting for the animals and bugs as they try to cheer up their grouchy neighbor! \n\nAuthor\, Moma will be on-hand to introduce everyone to her amazing collection of\nbugs.\nIllustrator\, Zachary Calinda joins us to add to the fun!\nEmerson Activities will be hosting a “Create Your Own Bug” activity.\n\n________________ \nFor three weeks only\, a story will emerge as children and their caregivers wind along the Brookside Wander nature trail. Read The Grouchy Frog\, by local author Moma\, while exploring the Emerson’s native plant preserve. Each page of the book is mounted on a sign\, allowing participants to read the story at their own pace as they stroll along the path\, encouraging kids and adults to read together\, be active\, and enjoy nature all at the same time!  Come Saturday June 21 at 2pm to meet the author\, Moma herself! \nNote that this is a self-guided activity that is open to the public free of charge from dawn to dusk. \nThe StoryWalk® Project was created by Anne Ferguson and developed in collaboration with the Kellogg-Hubbard Library in Montpelier Vermont. Storywalk® is a registered service mark owned by the Kellogg-Hubbard Library.
URL:https://phoeniciany.com/event/grouchy-frog-storywalk/
LOCATION:The Emerson Resort & Spa\, Route 28\, Mount Tremper\, NY\, United States
CATEGORIES:Art Tour,Children's Event,Community Event,Family Hike,Nature Walk
ATTACH;FMTTYPE=image/jpeg:https://www.phoeniciany.com/wp-content/uploads/2025/06/nature-walk-Emerson-scaled.jpeg
END:VEVENT
BEGIN:VEVENT
DTSTART;TZID=UTC:20160904T113000
DTEND;TZID=UTC:20160904T160000
DTSTAMP:20260423T155646
CREATED:20160817T010655Z
LAST-MODIFIED:20160817T010655Z
UID:1239-1472988600-1473004800@phoeniciany.com
SUMMARY:Guided Family Hike to Slide Mountain
DESCRIPTION:Forever Wild Guides\, a service of Storehouse\, will be offering a family-friendly hike up to Slide Mountain Slide Mountain- the tallest mountain in the Catskills! But don’t let that scare you…the hike is not that difficult! Led by our guide\, Jess\, her two young stepdaughters\, and friendly pup\, Muppet. \nThis moderate hike is 5 miles round trip. There is climbing involved and some rugged terrain\, but children aged 6+ should have no problem completing this hike. The environment will be fun and supportive and nobody will be left behind\, so join us! \n\nThe cost: $50 per family\, which includes one ticket on our trail shuttle that leaves from Phoenicia and the Emerson Resort and Hotel.\n\nPlease pre-pay through our website: http://www.storehouseny.com/#!product-page/cba4/ab3a28c2-f9de-983b-cd04-a066e3f1acc9\n\n\nThe date: Sunday\, September 4\, 2016\nThe time: 11:30am is when the hike starts at the Slide Mountain trail head off of Rt.47\n\nSlide Mountain DEC parking lot is ~9.5 miles off Rt. 47 south\nIf you are taking the shuttle please see shuttle below – it will pick you up and drop you off in time for the 1130 start\n\n\n\nShuttle schedule: \nDeparts the Emerson at 10:40am\nDeparts 60 Main St. in Phoenicia at 10:55am\nDeparts the Slide Mountain trail head at 4:10pm\nArrives in Phoenicia at 4:40pm\nArrives at the Emerson at 4:50pm \nAdditional  shuttle tickets for your other family members can be purchased here: http://www.storehouseny.com/#!product-page/cba4/01aa4906-46a6-5a14-03fd-bd707c480ae8 \n 
URL:https://phoeniciany.com/event/guided-family-hike-to-slide-mountain/
LOCATION:Slide Mountain
CATEGORIES:Family Hike,Guided Hike,Organized Hike,Scenic Views
ORGANIZER;CN="Catskill Mountain Storehouse":MAILTO:Tim@storehouseny.com
END:VEVENT
BEGIN:VEVENT
DTSTART;TZID=UTC:20160903T113000
DTEND;TZID=UTC:20160903T154500
DTSTAMP:20260423T155646
CREATED:20160816T194937Z
LAST-MODIFIED:20160817T010842Z
UID:1234-1472902200-1472917500@phoeniciany.com
SUMMARY:Guided Family Hike to Giant Ledge
DESCRIPTION:Forever Wild Guides\, a service of Storehouse\, will be offering a family-friendly hike up to Giant Ledge–one of the great hikes of the Catskills! Led by our guide\, Tim\, his two young daughters\, and friendly pup\, Muppet. \nThis moderate hike is 3 miles round trip. There is climbing involved and some rugged terrain\, but children aged 6+ should have no problem completing this hike. The environment will be fun and supportive and nobody will be left behind\, so join us! \n\nThe cost: $50 per family\, which includes one ticket on our trail shuttle that leaves from Phoenicia and the Emerson Resort and Hotel.\n\nPlease pre-pay through our website: http://www.storehouseny.com/#!product-page/cba4/2b72a2e3-a7cc-6aa9-98ea-76f9e39f6265\n\n\nThe date: Saturday\, September 3\, 2016\nThe time: 11:30am is when the hike starts at Giant Ledge Trail head\n\nGiant Ledge DEC parking lot ( GPS: N42 01.596 W74 24.223)\nIf you are taking the shuttle please see shuttle below – it will pick you up and drop you off in time for the 1130 start\n\n\n\nShuttle schedule: \nDeparts the Emerson at 10:40am\nDeparts 60 Main St. in Phoenicia at 10:55am\nDeparts the Giant Ledge trail head at 4:00pm\nArrives in Phoenicia at 4:40pm\nArrives at the Emerson at 4:50pm \nAdditional  shuttle tickets for your other family members can be purchased here: http://www.storehouseny.com/#!product-page/cba4/b3f5e931-865b-ab8a-fcad-cc906b7efa78 \n  \n 
URL:https://phoeniciany.com/event/guided-family-hike-to-giant-ledge/
LOCATION:NY
CATEGORIES:Family Hike,Guided Hike,Organized Hike,Scenic Views
ORGANIZER;CN="Catskill Mountain Storehouse":MAILTO:Tim@storehouseny.com
END:VEVENT
END:VCALENDAR