BEGIN:VCALENDAR
VERSION:2.0
PRODID:-//Phoenicia New York in the Catskill Mountains - ECPv6.15.11//NONSGML v1.0//EN
CALSCALE:GREGORIAN
METHOD:PUBLISH
X-WR-CALNAME:Phoenicia New York in the Catskill Mountains
X-ORIGINAL-URL:https://phoeniciany.com
X-WR-CALDESC:Events for Phoenicia New York in the Catskill Mountains
REFRESH-INTERVAL;VALUE=DURATION:PT1H
X-Robots-Tag:noindex
X-PUBLISHED-TTL:PT1H
BEGIN:VTIMEZONE
TZID:America/New_York
BEGIN:DAYLIGHT
TZOFFSETFROM:-0500
TZOFFSETTO:-0400
TZNAME:EDT
DTSTART:20180311T070000
END:DAYLIGHT
BEGIN:STANDARD
TZOFFSETFROM:-0400
TZOFFSETTO:-0500
TZNAME:EST
DTSTART:20181104T060000
END:STANDARD
BEGIN:DAYLIGHT
TZOFFSETFROM:-0500
TZOFFSETTO:-0400
TZNAME:EDT
DTSTART:20190310T070000
END:DAYLIGHT
BEGIN:STANDARD
TZOFFSETFROM:-0400
TZOFFSETTO:-0500
TZNAME:EST
DTSTART:20191103T060000
END:STANDARD
BEGIN:DAYLIGHT
TZOFFSETFROM:-0500
TZOFFSETTO:-0400
TZNAME:EDT
DTSTART:20200308T070000
END:DAYLIGHT
BEGIN:STANDARD
TZOFFSETFROM:-0400
TZOFFSETTO:-0500
TZNAME:EST
DTSTART:20201101T060000
END:STANDARD
END:VTIMEZONE
BEGIN:VTIMEZONE
TZID:UTC
BEGIN:STANDARD
TZOFFSETFROM:+0000
TZOFFSETTO:+0000
TZNAME:UTC
DTSTART:20150101T000000
END:STANDARD
END:VTIMEZONE
BEGIN:VEVENT
DTSTART;TZID=America/New_York:20191220T170000
DTEND;TZID=America/New_York:20191220T200000
DTSTAMP:20260422T055045
CREATED:20191126T033904Z
LAST-MODIFIED:20191126T033904Z
UID:2511-1576861200-1576872000@phoeniciany.com
SUMMARY:Computer Fixer
DESCRIPTION:Friday\, 12/20 @ 5:00 pm – 7:45 pm: Computer Fixer Did you get a new device recently? Need helping setting it up? Come to our Computer Fixer for help. Joris Sankai Lemmens will be available to answer technical questions in 15 minute increments.  Does your battery life seem too short? Confused about cloud storage practices? Should you buy new or refurbished? Joris is here to help.
URL:https://phoeniciany.com/event/computer-fixer-13/
LOCATION:Phoenicia Library
CATEGORIES:Computer Help,Library Event
ATTACH;FMTTYPE=image/png:https://www.phoeniciany.com/wp-content/uploads/2019/11/Computer-Fixer-Dec.png
END:VEVENT
BEGIN:VEVENT
DTSTART;TZID=America/New_York:20191122T170000
DTEND;TZID=America/New_York:20191122T194500
DTSTAMP:20260422T055045
CREATED:20191112T171230Z
LAST-MODIFIED:20191112T171230Z
UID:2490-1574442000-1574451900@phoeniciany.com
SUMMARY:Computer Fixer
DESCRIPTION:Friday\, 11/22\n@ 5:00 pm – 7:45 pm\nComputer Fixer \nDid you get a new device recently? Need helping setting it up? Come to our Computer Fixer for help. Joris Sankai Lemmens will be available to answer technical questions in 15 minute increments.  Does your battery life seem too short? Confused about cloud storage practices? Should you buy new or refurbished? Joris is here to help.
URL:https://phoeniciany.com/event/computer-fixer-12/
LOCATION:Phoenicia Library
CATEGORIES:Computer Help,Library Event
ATTACH;FMTTYPE=image/png:https://www.phoeniciany.com/wp-content/uploads/2019/11/Computer-Fixer-Nov.png
END:VEVENT
BEGIN:VEVENT
DTSTART;TZID=America/New_York:20191025T170000
DTEND;TZID=America/New_York:20191025T194500
DTSTAMP:20260422T055045
CREATED:20191017T163139Z
LAST-MODIFIED:20191017T163139Z
UID:2448-1572022800-1572032700@phoeniciany.com
SUMMARY:Computer Fixer
DESCRIPTION:Friday\, 10/25 @ 5:00 pm – 7:45 pm: Computer Fixer Did you get a new device recently? Need helping setting it up? Come to our Computer Fixer for help. Joris Sankai Lemmens will be available to answer technical questions in 15 minute increments.  Does your battery life seem too short? Confused about cloud storage practices? Should you buy new or refurbished? Joris is here to help.
URL:https://phoeniciany.com/event/computer-fixer-11/
LOCATION:Phoenicia Library
CATEGORIES:Computer Help,Library Event
ATTACH;FMTTYPE=image/jpeg:https://www.phoeniciany.com/wp-content/uploads/2019/10/Computer-Fixer-Oct.jpg
END:VEVENT
BEGIN:VEVENT
DTSTART;TZID=America/New_York:20190823T170000
DTEND;TZID=America/New_York:20190823T194500
DTSTAMP:20260422T055045
CREATED:20190802T192622Z
LAST-MODIFIED:20190802T192622Z
UID:2421-1566579600-1566589500@phoeniciany.com
SUMMARY:Computer Fixer
DESCRIPTION:Friday\, 8/23 @ 5:00 pm – 7:45 pm: Computer Fixer Did you get a new device recently? Need helping setting it up? Come to our Computer Fixer for help. Joris Sankai Lemmens will be available to answer technical questions in 15 minute increments.  Does your battery life seem too short? Confused about cloud storage practices? Should you buy new or refurbished? Joris is here to help.
URL:https://phoeniciany.com/event/computer-fixer-10/
LOCATION:Phoenicia Library
CATEGORIES:Computer Help,Library Event
ATTACH;FMTTYPE=image/jpeg:https://www.phoeniciany.com/wp-content/uploads/2019/08/Computer-Fixer-August.jpg
END:VEVENT
BEGIN:VEVENT
DTSTART;TZID=America/New_York:20190726T170000
DTEND;TZID=America/New_York:20190726T194500
DTSTAMP:20260422T055045
CREATED:20190701T153859Z
LAST-MODIFIED:20190701T153941Z
UID:2380-1564160400-1564170300@phoeniciany.com
SUMMARY:Computer Fixer
DESCRIPTION:Friday\, 7/26 @ 5:00 pm – 7:45 pm: Computer Fixer \nDid you get a new device recently? Need helping setting it up? Come to our Computer Fixer for help. Joris Sankai Lemmens will be available to answer technical questions in 15 minute increments.  Does your battery life seem too short? Confused about cloud storage practices? Should you buy new or refurbished? Joris is here to help.
URL:https://phoeniciany.com/event/computer-fixer-9/
LOCATION:Phoenicia Library
CATEGORIES:Computer Help,Library Event
END:VEVENT
BEGIN:VEVENT
DTSTART;TZID=America/New_York:20190517T170000
DTEND;TZID=America/New_York:20190517T194500
DTSTAMP:20260422T055045
CREATED:20190430T071239Z
LAST-MODIFIED:20190430T071239Z
UID:2343-1558112400-1558122300@phoeniciany.com
SUMMARY:Computer Fixer
DESCRIPTION:Computer Fixer \nFriday\, 5/17 @ 5:00 pm – 7:45 pm \nDid you get a new device recently? Need helping setting it up? Come to our Computer Fixer for help. Joris Sankai Lemmens will be available to answer technical questions in 15 minute increments.  Does your battery life seem too short? Confused about cloud storage practices? Should you buy new or refurbished? Joris is here to help.
URL:https://phoeniciany.com/event/computer-fixer-8/
LOCATION:Phoenicia Library
CATEGORIES:Computer Help,Library Event
ATTACH;FMTTYPE=image/jpeg:https://www.phoeniciany.com/wp-content/uploads/2019/04/Computer-Fixer-May.jpg
END:VEVENT
BEGIN:VEVENT
DTSTART;TZID=America/New_York:20190426T170000
DTEND;TZID=America/New_York:20190426T194500
DTSTAMP:20260422T055045
CREATED:20190402T175635Z
LAST-MODIFIED:20190402T175635Z
UID:2319-1556298000-1556307900@phoeniciany.com
SUMMARY:Computer Fixer
DESCRIPTION:Friday\, 4/26 @ 5:00 pm – 7:45 pm\nComputer Fixer \nDid you get a new device recently? Need helping setting it up? Come to our Computer Fixer for help. Joris Sankai Lemmens will be available to answer technical questions in 15 minute increments.  Does your battery life seem too short? Confused about cloud storage practices? Should you buy new or refurbished? Joris is here to help.
URL:https://phoeniciany.com/event/computer-fixer-7/
LOCATION:Phoenicia Library
CATEGORIES:Computer Help,Library Event
ATTACH;FMTTYPE=image/jpeg:https://www.phoeniciany.com/wp-content/uploads/2019/04/Computer-Fixer-April.jpg
END:VEVENT
BEGIN:VEVENT
DTSTART;TZID=America/New_York:20190222T170000
DTEND;TZID=America/New_York:20190222T194500
DTSTAMP:20260422T055045
CREATED:20190206T174137Z
LAST-MODIFIED:20190206T174137Z
UID:2239-1550854800-1550864700@phoeniciany.com
SUMMARY:Computer Fixer
DESCRIPTION:Friday\, 2/22 @ 5:00 pm – 7:45 pm \nComputer Fixer \nDid you get a new device recently? Need helping setting it up? Come to our Computer Fixer for help. Joris Sankai Lemmens will be available to answer technical questions in 15 minute increments.  Does your battery life seem too short? Confused about cloud storage practices? Should you buy new or refurbished? Joris is here to help.
URL:https://phoeniciany.com/event/computer-fixer-6/
LOCATION:Phoenicia Library
CATEGORIES:Computer Help,Library Event
ATTACH;FMTTYPE=image/jpeg:https://www.phoeniciany.com/wp-content/uploads/2019/02/Computer-Fixer-Feb-19.jpg
END:VEVENT
BEGIN:VEVENT
DTSTART;TZID=UTC:20190109T150000
DTEND;TZID=UTC:20190109T174500
DTSTAMP:20260422T055045
CREATED:20181231T015434Z
LAST-MODIFIED:20181231T015434Z
UID:2176-1547046000-1547055900@phoeniciany.com
SUMMARY:Tech Time
DESCRIPTION:Tech Time \nWednesday\, 1/9 @ 3:00 pm – 5:45 pm \nStop by for help with questions about computers\, cell phones\, email\, the internet\, online services\, social media\, or software programs such as Excel or Photoshop. Our Computer Fixer\, Joris Lemmens\, is here to shed some light on your technological blind spots.  Additional volunteers and staff will be joining to ensure everyone is served.
URL:https://phoeniciany.com/event/tech-time-3/
LOCATION:Phoenicia Library
CATEGORIES:Computer Help,Library Event
ATTACH;FMTTYPE=image/jpeg:https://www.phoeniciany.com/wp-content/uploads/2018/12/tech-time-jan.jpg
END:VEVENT
BEGIN:VEVENT
DTSTART;TZID=UTC:20181214T170000
DTEND;TZID=UTC:20181214T194500
DTSTAMP:20260422T055045
CREATED:20181213T012846Z
LAST-MODIFIED:20181213T012846Z
UID:2154-1544806800-1544816700@phoeniciany.com
SUMMARY:Computer Fixer
DESCRIPTION:Computer Fixer\nFriday\, 12/14 @ 5:00 pm – 7:45 pm \nComputer Fixer Did you get a new device recently? Need helping setting it up? Come to our Computer Fixer for help. Joris Sankai Lemmens will be available to answer technical questions in 15 minute increments.  Does your battery life seem too short? Confused about cloud storage practices? Should you buy new or refurbished? Joris is here to help.
URL:https://phoeniciany.com/event/computer-fixer-5/
LOCATION:Phoenicia Library
CATEGORIES:Computer Help,Library Event
ATTACH;FMTTYPE=image/jpeg:https://www.phoeniciany.com/wp-content/uploads/2018/12/Computer-Fixer-Dec-2018.jpg
END:VEVENT
BEGIN:VEVENT
DTSTART;TZID=UTC:20181130T170000
DTEND;TZID=UTC:20181130T194500
DTSTAMP:20260422T055045
CREATED:20181031T220656Z
LAST-MODIFIED:20181031T220656Z
UID:2134-1543597200-1543607100@phoeniciany.com
SUMMARY:Computer Fixer
DESCRIPTION:Friday\, 11/30 @ 5:00 pm – 7:45 pm: Computer Fixer Did you get a new device recently? Need helping setting it up? Come to our Computer Fixer for help. Joris Sankai Lemmens will be available to answer technical questions in 15 minute increments.  Does your battery life seem too short? Confused about cloud storage practices? Should you buy new or refurbished? Joris is here to help.
URL:https://phoeniciany.com/event/computer-fixer-4/
LOCATION:Phoenicia Library
CATEGORIES:Computer Help,Library Event
ATTACH;FMTTYPE=image/jpeg:https://www.phoeniciany.com/wp-content/uploads/2018/10/Computer-Fixer-Nov-2018.jpg
END:VEVENT
BEGIN:VEVENT
DTSTART;TZID=UTC:20181026T170000
DTEND;TZID=UTC:20181026T194500
DTSTAMP:20260422T055045
CREATED:20180927T164743Z
LAST-MODIFIED:20180927T164743Z
UID:2074-1540573200-1540583100@phoeniciany.com
SUMMARY:Computer Fixer
DESCRIPTION:Computer Fixer \nHe Can Fix any Computer or Device \nFriday\, October 26th\n5:00 – 7:45\nFree
URL:https://phoeniciany.com/event/computer-fixer-3/
LOCATION:Phoenicia Library
CATEGORIES:Computer Help,Library Event
ATTACH;FMTTYPE=image/jpeg:https://www.phoeniciany.com/wp-content/uploads/2018/09/Computer-Fixer-Oct-2018.jpg
END:VEVENT
BEGIN:VEVENT
DTSTART;TZID=UTC:20180921T170000
DTEND;TZID=UTC:20180921T194500
DTSTAMP:20260422T055045
CREATED:20180917T221304Z
LAST-MODIFIED:20180917T221304Z
UID:2066-1537549200-1537559100@phoeniciany.com
SUMMARY:Computer Fixer
DESCRIPTION:Computer Fixer Did you get a new device recently? Need helping setting it up? Come to our Computer Fixer for help. Joris Sankai Lemmens will be available to answer technical questions in 15 minute increments.  Does your battery life seem too short? Confused about cloud storage practices? Should you buy new or refurbished? Joris is here to help.
URL:https://phoeniciany.com/event/computer-fixer-2/
LOCATION:Phoenicia Library
CATEGORIES:Computer Help,Library Event
ATTACH;FMTTYPE=image/jpeg:https://www.phoeniciany.com/wp-content/uploads/2018/09/Computer-Fixer-Sept-2018.jpg
END:VEVENT
BEGIN:VEVENT
DTSTART;TZID=UTC:20180622T170000
DTEND;TZID=UTC:20180622T194500
DTSTAMP:20260422T055045
CREATED:20180613T034705Z
LAST-MODIFIED:20180613T034705Z
UID:2014-1529686800-1529696700@phoeniciany.com
SUMMARY:Computer Fixer at Phoenicia Library
DESCRIPTION:Friday\, 6/22\n5:00 pm – 7:45 pm \nComputer Fixer Did you get a new device recently? Need helping setting it up? Come to our Computer Fixer for help. Joris Sankai Lemmens will be available to answer technical questions in 15 minute increments.  Does your battery life seem too short? Confused about cloud storage practices? Should you buy new or refurbished? Joris is here to help.
URL:https://phoeniciany.com/event/computer-fixer-at-phoenicia-library/
LOCATION:Phoenicia Library
CATEGORIES:Computer Help,Library Event
ATTACH;FMTTYPE=image/jpeg:https://www.phoeniciany.com/wp-content/uploads/2018/06/Computer-Fixer-2018.jpg
END:VEVENT
BEGIN:VEVENT
DTSTART;TZID=UTC:20180509T150000
DTEND;TZID=UTC:20180509T174500
DTSTAMP:20260422T055045
CREATED:20180501T081724Z
LAST-MODIFIED:20180501T081724Z
UID:1941-1525878000-1525887900@phoeniciany.com
SUMMARY:Tech Time
DESCRIPTION:Wednesday\, 5/9\, 3:00-5:45 pm\nTech Time\nPhoenicia Library \nTech Time returns to the popular Wednesday spot this month. Stop by for help with questions about computers\, cell phones\, email\, the internet\, online services\, social media\, or software programs such as Excel or Photoshop. Our Computer Fixer\, Joris Lemmens\, is here to shed some light on your technological blind spots.  Additional volunteers and staff will be joining to ensure everyone is served.
URL:https://phoeniciany.com/event/tech-time-2/
LOCATION:Phoenicia Library
CATEGORIES:Computer Help,Library Event
ATTACH;FMTTYPE=image/jpeg:https://www.phoeniciany.com/wp-content/uploads/2018/05/Tech-Time-May.jpg
END:VEVENT
BEGIN:VEVENT
DTSTART;TZID=UTC:20161128T150000
DTEND;TZID=UTC:20161128T174500
DTSTAMP:20260422T055045
CREATED:20161103T231127Z
LAST-MODIFIED:20161103T231127Z
UID:1368-1480345200-1480355100@phoeniciany.com
SUMMARY:Computer Fixer
DESCRIPTION:Computer Fixer  \nOur popular computer repair session moves to Monday in November. Joris Sankai Lemmens will be available to answer technical questions (in 15 minute increments).  Have a new device that you can’t start up? Does your laptop seem slow? Confused about cloud storage practices? Curious about the best computer to buy? Debating MAC vs. Windows? Joris is here to help. For those of you who can’t make Friday evenings\, now’s your chance!
URL:https://phoeniciany.com/event/computer-fixer/
LOCATION:Phoenicia Library
CATEGORIES:Computer Help
ATTACH;FMTTYPE=image/jpeg:https://www.phoeniciany.com/wp-content/uploads/2016/11/sankai-oct-dec.jpg
END:VEVENT
BEGIN:VEVENT
DTSTART;TZID=UTC:20161109T150000
DTEND;TZID=UTC:20161109T174500
DTSTAMP:20260422T055045
CREATED:20161103T230922Z
LAST-MODIFIED:20161103T230922Z
UID:1363-1478703600-1478713500@phoeniciany.com
SUMMARY:Tech Time
DESCRIPTION:Tech Time \nJoin us for a new program aimed at helping you become more familiar with technology. Whether it’s computers\, cell phones\, email\, the internet\, online services\, social media\, or software programs such as Excel or Photoshop\, it’s never too late to become more engaged with the digital side of life. As we continue to refine the program and what it offers\, we want to hear from you. Come and tell us what technological areas are you interested in\, what level of help do you need\, how would you like the time structured\, etc. Led by our Computer Fixer\, Joris Sankai Lemmens.
URL:https://phoeniciany.com/event/tech-time/
LOCATION:Phoenicia Library
CATEGORIES:Computer Help
ATTACH;FMTTYPE=image/jpeg:https://www.phoeniciany.com/wp-content/uploads/2016/11/tech-time-3.jpg
END:VEVENT
END:VCALENDAR