BEGIN:VCALENDAR
VERSION:2.0
PRODID:-//Phoenicia New York in the Catskill Mountains - ECPv6.15.11//NONSGML v1.0//EN
CALSCALE:GREGORIAN
METHOD:PUBLISH
X-WR-CALNAME:Phoenicia New York in the Catskill Mountains
X-ORIGINAL-URL:https://phoeniciany.com
X-WR-CALDESC:Events for Phoenicia New York in the Catskill Mountains
REFRESH-INTERVAL;VALUE=DURATION:PT1H
X-Robots-Tag:noindex
X-PUBLISHED-TTL:PT1H
BEGIN:VTIMEZONE
TZID:America/New_York
BEGIN:DAYLIGHT
TZOFFSETFROM:-0500
TZOFFSETTO:-0400
TZNAME:EDT
DTSTART:20230312T070000
END:DAYLIGHT
BEGIN:STANDARD
TZOFFSETFROM:-0400
TZOFFSETTO:-0500
TZNAME:EST
DTSTART:20231105T060000
END:STANDARD
BEGIN:DAYLIGHT
TZOFFSETFROM:-0500
TZOFFSETTO:-0400
TZNAME:EDT
DTSTART:20240310T070000
END:DAYLIGHT
BEGIN:STANDARD
TZOFFSETFROM:-0400
TZOFFSETTO:-0500
TZNAME:EST
DTSTART:20241103T060000
END:STANDARD
BEGIN:DAYLIGHT
TZOFFSETFROM:-0500
TZOFFSETTO:-0400
TZNAME:EDT
DTSTART:20250309T070000
END:DAYLIGHT
BEGIN:STANDARD
TZOFFSETFROM:-0400
TZOFFSETTO:-0500
TZNAME:EST
DTSTART:20251102T060000
END:STANDARD
END:VTIMEZONE
BEGIN:VEVENT
DTSTART;TZID=America/New_York:20240804T090000
DTEND;TZID=America/New_York:20240804T140000
DTSTAMP:20260422T101448
CREATED:20240724T175659Z
LAST-MODIFIED:20240724T175659Z
UID:3546-1722762000-1722780000@phoeniciany.com
SUMMARY:Emerson Car Show
DESCRIPTION:Emerson Car Show\n\nThe Emerson Resort & Spa presents the 2024 Car Show benefitting the Heart of the Catskills Humane Society!\nSunday August 4th\, 2024\n\n(Rain Date Sunday August 11th)\n9:00 am to 2:00 pm\nMUSIC! FOOD! TROPHIES!\n\nSPECTATORS FREE (Donations to the Humane Society welcome)\n\nTo register your car for the Car Show\, contact: Perry Orshan 201-638-2270\, E-mail rr540@aol.com\nPre-Registration (by July 21\, 2024) – $12.00 Day of Show- $15.00\n\nLocation:\nOn the grass out front\nThe Emerson Resort & Spa\n5340 NY-28\, Mt Tremper\, NY 12457\, USA\n\nhttps://emersonresort.com/experiences/#!/e/emerson-car-show-ff84aed8/
URL:https://phoeniciany.com/event/emerson-car-show/
LOCATION:The Emerson Resort & Spa\, Route 28\, Mount Tremper\, NY\, United States
CATEGORIES:Car Show
ATTACH;FMTTYPE=image/jpeg:https://www.phoeniciany.com/wp-content/uploads/2024/07/Emerson-Car-Show.jpg
END:VEVENT
END:VCALENDAR