BEGIN:VCALENDAR
VERSION:2.0
PRODID:-//Phoenicia New York in the Catskill Mountains - ECPv6.15.11//NONSGML v1.0//EN
CALSCALE:GREGORIAN
METHOD:PUBLISH
X-ORIGINAL-URL:https://phoeniciany.com
X-WR-CALDESC:Events for Phoenicia New York in the Catskill Mountains
REFRESH-INTERVAL;VALUE=DURATION:PT1H
X-Robots-Tag:noindex
X-PUBLISHED-TTL:PT1H
BEGIN:VTIMEZONE
TZID:America/New_York
BEGIN:DAYLIGHT
TZOFFSETFROM:-0500
TZOFFSETTO:-0400
TZNAME:EDT
DTSTART:20210314T070000
END:DAYLIGHT
BEGIN:STANDARD
TZOFFSETFROM:-0400
TZOFFSETTO:-0500
TZNAME:EST
DTSTART:20211107T060000
END:STANDARD
BEGIN:DAYLIGHT
TZOFFSETFROM:-0500
TZOFFSETTO:-0400
TZNAME:EDT
DTSTART:20220313T070000
END:DAYLIGHT
BEGIN:STANDARD
TZOFFSETFROM:-0400
TZOFFSETTO:-0500
TZNAME:EST
DTSTART:20221106T060000
END:STANDARD
BEGIN:DAYLIGHT
TZOFFSETFROM:-0500
TZOFFSETTO:-0400
TZNAME:EDT
DTSTART:20230312T070000
END:DAYLIGHT
BEGIN:STANDARD
TZOFFSETFROM:-0400
TZOFFSETTO:-0500
TZNAME:EST
DTSTART:20231105T060000
END:STANDARD
END:VTIMEZONE
BEGIN:VEVENT
DTSTART;TZID=America/New_York:20220508T110000
DTEND;TZID=America/New_York:20220508T133000
DTSTAMP:20260423T215741
CREATED:20220328T185714Z
LAST-MODIFIED:20220401T190322Z
UID:2970-1652007600-1652016600@phoeniciany.com
SUMMARY:Mother's Day Tea
DESCRIPTION:When: May 8th 11am-1:30pm\nWhere: Parish Hall – Main Street Phoenicia\nWho: All mothers – with or without children in attendance\nFundraising aspect: \n     Phoenicia Food Pantry/Phoenicia Farmers Market/PBA will all get a portion of the following;\n        50/50 raffle\n        $5 suggested donation to attend\n        Silent auction\nWhat else:\n    We will provide light snacks\, tea\, raffles\, crafts and music.\n    Ask that everyone wear a fun hat (similar to a Kentucky Derby hat)\n    The event will end no later than 1:30pm and attendees can walk to the Phoenicia Farmers Market for the end of their opening day outdoors. From there we will go to the Phoenicia Arts & Antiques for a silent auction beginning at 2pm.\n     Candle prize for one person at each table.\n     $50 gift card for one attendee winner.
URL:https://phoeniciany.com/event/mothers-day-tea/
LOCATION:Parish Hall\, 109 Main Street\, Phoenicia\, NY\, 12464\, United States
CATEGORIES:Auction,Community Event
ATTACH;FMTTYPE=image/jpeg:https://www.phoeniciany.com/wp-content/uploads/2022/03/spring-tea.jpg
END:VEVENT
END:VCALENDAR